Workbook
Name _msoanchor_1: 'Tulokset hiilijalanjälki'!#REF!
Name _Toc144300067: 'Tulokset hiilijalanjälki'!$M$38

Sheet OHJE

Sheet Ohjeet
C1: ='Lähtötiedot 1'!D1 -> Hiilijalanjäljen lähtötietojen ja tulosten raportointi
E2: ='Lähtötiedot 1'!D2 -> versio 10/2026
B5: Helsingin ohje rakennuksen ja rakennuspaikan elinkaaren hiilijalanjälki- ja kädenjälkilaskelmiin
B7: Rakennuksen ja rakennuspaikan elinkaaren hiilijalanjäljen ja kädenjäljen laskennassa tulee noudattaa
B8: Ympäristöministeriön asetus rakennuksen ilmastoselvityksestä ja rakennustuoteluettelosta | 1027/2024 | Lainsäädäntö | Finlex
B9: Laskennan soveltamisohjeeksi on laadittu Rakennuksen vähähiilisyyden arviointimenetelmä 2025, jonka uusinta versiota tulee noudattaa myös
B10: Helsingin kaupungin raja-arvon alaisissa hankkeissa. Asetuksen perustelumuistio:
B11: Asetuksen 1027/2024 perustelumuistio (Perustelumuistio ilmastoselvitys_luonnos 17.12)
B12: on kuitenkin ensisijainen soveltamisohje, jos se on joltain osin ristiriidassa edellä mainitun soveltamisohjeen kanssa.
B14: Tämä raporttipohja soveltuu:
B15: a) Helsingin kaupungin raja-arvon alaisiin hankkeisiin,
B16: b) kansallisen raja-arvon alaisiin loppukatselmusta varten tehtäviin Ilmastoselvityksiin.
B18: Helsingin kaupungin hiilijalanjäljen raja-arvosta on tietoa sivulla:
B19: Hiilijalanjäljen raja-arvo | Helsingin kaupunki.
... B49: vertailuun. Seuraa lomakkeen ohjeita.

Sheet Lähtötiedot 1
D1: Hiilijalanjäljen lähtötietojen ja tulosten raportointi
D2: versio 10/2026
B3: Lähtötietojen raportointi
B6: Perustiedot laskennasta
B7: Hankkeen nimi | E7: =IF(F7="Tieto puuttuu",1,0) -> 1 | F7: =IF($D7="","Tieto puuttuu"," ") -> Tieto puuttuu
B8: Osoite (ainoastaan kadunnimi ja numero) | E8: =IF(F8="Tieto puuttuu",1,0) -> 1 | F8: =IF($D8="","Tieto puuttuu"," ") -> Tieto puuttuu
B9: Hankenumero tai muu projektitunnus | E9: =IF(F9="Tieto puuttuu",1,0) -> 1 | F9: =IF($D9="","Tieto puuttuu"," ") -> Tieto puuttuu
B10: Pysyvä rakennustunnus* (VTJ-PRT) | E10: =IF(F10="Tieto puuttuu",1,0) -> 1 | F10: =IF($D10="","Tieto puuttuu"," ") -> Tieto puuttuu
B11: Hanketyyppi | D11: Valitse | E11: =IF(F11="Tieto puuttuu",1,0) -> 1 | F11: =IF($D11="Valitse","Tieto puuttuu"," ") -> Tieto puuttuu
B12: Hankevaihe, jossa laskelma on tehty | D12: Valitse | E12: =IF(F12="Tieto puuttuu",1,0) -> 1 | F12: =IF($D12="Valitse","Tieto puuttuu"," ") -> Tieto puuttuu
B13: Käytetty hiilijalanjälkilaskentaohjelma* | E13: =IF(F13="Tieto puuttuu",1,0) -> 1 | F13: =IF($D13="","Tieto puuttuu"," ") -> Tieto puuttuu
B14: Ilmastoselvityksen päiväys* (dd.mm.yyyy) | E14: =IF(F14="Tieto puuttuu",1,0) -> 1 | F14: =IF($D14="","Tieto puuttuu"," ") -> Tieto puuttuu
B15: Laskelman laatija (vain yritys) | E15: =IF(F15="Tieto puuttuu",1,0) -> 1 | F15: =IF($D15="","Tieto puuttuu"," ") -> Tieto puuttuu
B16: Selvityksen laatijan nimi*
B17: Mihin tietoihin määrätiedot pääosin perustuvat? | D17: Valitse | E17: =IF(F17="Tieto puuttuu",1,0) -> 1 | F17: =IF($D17="Valitse","Tieto puuttuu"," ") -> Tieto puuttuu
B18: Laskennassa on käytetty kansallisen tietokannan tietojen lisäksi muita arviointimenetelmässä hyväksyttyjä päästötietoja. | D18: Valitse | E18: =IF(F18="Tieto puuttuu",1,0) -> 1 | F18: =IF($D18="Valitse","Tieto puuttuu"," ") -> Tieto puuttuu
B19: Käytetty päästötietokannan versio | E19: =IF(F19="Tieto puuttuu",1,0) -> 0 | F19: =IF($D19="Valitse","Tieto puuttuu"," ")
B20: Laskennassa on käytetty RT-kortista, kansallisesta päästötietokannasta tai EPD:stä poikkeavia käyttöikätietoja. | D20: Valitse | E20: =IF(F20="Tieto puuttuu",1,0) -> 1 | F20: =IF($D20="Valitse","Tieto puuttuu"," ") -> Tieto puuttuu
B22: Perustiedot rakennuksesta tai laskennan kohteena olevasta rakennuksen osasta
B23: Pääasiallinen käyttötarkoitusluokka* | D23: Valitse | E23: =IF(F23="Tieto puuttuu",1,0) -> 1 | F23: =IF($D23="Valitse","Tieto puuttuu"," ") -> Tieto puuttuu
B24: Sisältyykö laskentaan muita käyttötarkoitusluokkia?* | D24: Valitse | E24: =IF(F24="Tieto puuttuu",1,0) -> 1 | F24: =IF($D24="Valitse","Tieto puuttuu"," ") -> Tieto puuttuu
B25: Muut käyttötarkoitusluokat, mikäli laskentaan sisältyy 1 | E25: =IF(F25="Tieto puuttuu",1,0) -> 0 | F25: =IF(AND($D24="Kyllä",D25=""),"Tieto puuttuu"," ")
B26: Jos rakennuksessa on useita käyttötarkoitusluokkia, onko muiden käyttötarkoitusluokkien osuudelle tehty erillinen laskelma? | D26: Valitse | E26: =IF(F26="Tieto puuttuu",1,0) -> 1 | F26: =IF($D26="Valitse","Tieto puuttuu"," ") -> Tieto puuttuu
B27: Rakennuksen tavoitteellinen käyttöikä* | E27: =IF(F27="Tieto puuttuu",1,0) -> 0 | F27: =IF($D27="Valitse","Tieto puuttuu"," ")
B28: Rakennuksen suunniteltu käyttäjämäärä* | E28: =IF(F28="Tieto puuttuu",1,0) -> 0 | F28: =IF($D28="Valitse","Tieto puuttuu"," ")
B29: Laskennassa käytetty rakennuksen valmistumisvuosi | D29: Valitse | E29: =IF(F29="Tieto puuttuu",1,0) -> 1 | F29: =IF($D29="Valitse","Tieto puuttuu"," ") -> Tieto puuttuu
B30: Maanpäällisten kerrosten lukumäärä | D30: Valitse | E30: =IF(F30="Tieto puuttuu",1,0) -> 1 | F30: =IF($D30="Valitse","Tieto puuttuu"," ") -> Tieto puuttuu
B31: Maanalaisten kerrosten lukumäärä | D31: Valitse | E31: =IF(F31="Tieto puuttuu",1,0) -> 1 | F31: =IF($D31="Valitse","Tieto puuttuu"," ") -> Tieto puuttuu
B32: Kuvaus tontille sijoittuvista muista rakennuksista ja rakennelmista kuten jäte-, auto- ja pyöräkatokset, jne., jotka on huomioitu rakennuspaikan hiilijalanjäljessä. | E32: =IF(F32="Tieto puuttuu",1,0) -> 1 | F32: =IF($D32="","Tieto puuttuu"," ") -> Tieto puuttuu
B33: Rakennuspaikan pinta-ala* | C33: m²
B34: Lämmitetty nettoala* | C34: n-m² | E34: =IF(F34="Tieto puuttuu",1,0) -> 1 | F34: =IF($D34="","Tieto puuttuu"," ") -> Tieto puuttuu
B35: Rakennuksen huoneistoala (vain asuinrak.) | C35: htm² | E35: =IF(F35="Tieto puuttuu",1,0) -> 0 | F35: =IF(AND(OR($D$23=Alasvetovalikot!$B$3,$D$23=Alasvetovalikot!$B$4),'Lähtötiedot 1'!D35=""),"Tieto puuttuu"," ")
B36: Rakennuksen bruttoala | C36: brm² | E36: =IF(F36="Tieto puuttuu",1,0) -> 1 | F36: =IF($D36="","Tieto puuttuu"," ") -> Tieto puuttuu
B37: Vaipan kokonaispinta-ala | C37: m² | E37: =IF(F37="Tieto puuttuu",1,0) -> 1 | F37: =IF($D37="","Tieto puuttuu"," ") -> Tieto puuttuu
B38: Ikkunoiden ja lasijulkisivujen pinta-ala | C38: m² | E38: =IF(F38="Tieto puuttuu",1,0) -> 1 | F38: =IF($D38="","Tieto puuttuu"," ") -> Tieto puuttuu
B39: Ulkoseinän määrä suhteessa bruttoalaan 2 (vain asuinrak.) | C39: jm/brm² | E39: =IF(F39="Tieto puuttuu",1,0) -> 0 | F39: =IF(AND(OR($D$23=Alasvetovalikot!$B$3,$D$23=Alasvetovalikot!$B$4),'Lähtötiedot 1'!D39=""),"Tieto puuttuu"," ")
B40: Rakennuksessa on väestönsuoja | D40: Valitse | E40: =IF(F40="Tieto puuttuu",1,0) -> 1 | F40: =IF($D40="Valitse","Tieto puuttuu"," ") -> Tieto puuttuu
B41: Onko laskennassa huomioitu tontin stabilointi? | D41: Valitse | E41: =IF(F41="Tieto puuttuu",1,0) -> 1 | F41: =IF($D41="Valitse","Tieto puuttuu"," ") -> Tieto puuttuu
B42: Autohallin huomioiminen laskennassa: | D42: Valitse | E42: =IF(F42="Tieto puuttuu",1,0) -> 1 | F42: =IF($D42="Valitse","Tieto puuttuu"," ") -> Tieto puuttuu
B44: Perustiedot rakennusosista ja materiaaleista*3
B45: Perustamistapa | D45: Valitse | E45: =IF(F45="Tieto puuttuu",1,0) -> 1 | F45: =IF($D45="Valitse","Tieto puuttuu"," ") -> Tieto puuttuu
B46: Runko | D46: Valitse | E46: =IF(F46="Tieto puuttuu",1,0) -> 1 | F46: =IF($D46="Valitse","Tieto puuttuu"," ") -> Tieto puuttuu
B47: Ulkoseinät | D47: Valitse | E47: =IF(F47="Tieto puuttuu",1,0) -> 1 | F47: =IF($D47="Valitse","Tieto puuttuu"," ") -> Tieto puuttuu
B48: Vesikatto | D48: Valitse | E48: =IF(F48="Tieto puuttuu",1,0) -> 1 | F48: =IF($D48="Valitse","Tieto puuttuu"," ") -> Tieto puuttuu
B49: Yläpohja | D49: Valitse | E49: =IF(F49="Tieto puuttuu",1,0) -> 1 | F49: =IF($D49="Valitse","Tieto puuttuu"," ") -> Tieto puuttuu
B50: Alapohja | D50: Valitse | E50: =IF(F50="Tieto puuttuu",1,0) -> 1 | F50: =IF($D50="Valitse","Tieto puuttuu"," ") -> Tieto puuttuu
B51: Välipohjat | D51: Valitse | E51: =IF(F51="Tieto puuttuu",1,0) -> 1 | F51: =IF($D51="Valitse","Tieto puuttuu"," ") -> Tieto puuttuu
B53: Perustiedot energiankäytöstä
B54: Energian tuotantomuodot 4 | C54: Lämpö | D54: Valitse | E54: =IF(F54="Tieto puuttuu",1,0) -> 1 | F54: =IF($D54="Valitse","Tieto puuttuu"," ") -> Tieto puuttuu
C55: Jäähdytys | D55: Valitse | E55: =IF(F55="Tieto puuttuu",1,0) -> 1 | F55: =IF($D55="Valitse","Tieto puuttuu"," ") -> Tieto puuttuu
C56: Sähkö | D56: Valitse | E56: =IF(F56="Tieto puuttuu",1,0) -> 1 | F56: =IF($D56="Valitse","Tieto puuttuu"," ") -> Tieto puuttuu
B57: E-lukulaskentaan käytetty laskentaohjelma | E57: =IF(F57="Tieto puuttuu",1,0) -> 1 | F57: =IF($D57="","Tieto puuttuu"," ") -> Tieto puuttuu
B58: E-luku (vain luku, ei tekstiä) | C58: kWhe/m2,a | E58: =IF(F58="Tieto puuttuu",1,0) -> 1 | F58: =IF($D58="","Tieto puuttuu"," ") -> Tieto puuttuu
B59: Ostoenergiankulutus kWh/a* | C59: Kaukolämpö | E59: =IF(F59="Tieto puuttuu",1,0) -> 1 | F59: =IF($D59="","Tieto puuttuu"," ") -> Tieto puuttuu
C60: Kaukojäähdytys | E60: =IF(F60="Tieto puuttuu",1,0) -> 1 | F60: =IF($D60="","Tieto puuttuu"," ") -> Tieto puuttuu
C61: Verkkosähkö | E61: =IF(F61="Tieto puuttuu",1,0) -> 1 | F61: =IF($D61="","Tieto puuttuu"," ") -> Tieto puuttuu
B62: Käytetyt energian päästökertoimet 50 vuodelle kgCO2e/kWh | C62: Kaukolämpö | E62: =IF(F62="Tieto puuttuu",1,0) -> 1 | F62: =IF($D62="","Tieto puuttuu"," ") -> Tieto puuttuu
C63: Kaukojäähdytys | E63: =IF(F63="Tieto puuttuu",1,0) -> 1 | F63: =IF($D63="","Tieto puuttuu"," ") -> Tieto puuttuu
C64: Verkkosähkö | E64: =IF(F64="Tieto puuttuu",1,0) -> 1 | F64: =IF($D64="","Tieto puuttuu"," ") -> Tieto puuttuu
B65: * Pakollinen tieto ilmastoselvitykseen.
B66: 1) Mikäli laskenta sisältää toista käyttötarkoitusluokkaa yli 10% koko rakennuksen nettoalasta ja rakennukseen sisältyvän tilan nettoala on vähintään 50 neliömetriä, tulee tälle tehdä oma laskenta, joka raportoidaan omiin taulukoihin välilehdellä 'Lähtötiedot monta käyttötarkoitusta ja Tulokset monta kättötarkoitusta.
B67: 2) Juoksumetri (jm) on yhteenlaskettuna rakennuksen jokaisen kerroksen piiri, jossa kerroksen piiri on mitattu julkisivun ulkopinnasta. Laskennassa huomioidaan maanalaiset tai osittain maanalaiset kerrokset. Laskennassa huomioidaan myös piharakennukset. Parvekkeita ei huomioida.
B68: 3) Asetuksen mukaan tulee raportoida arviointiin sisältyvien kantavien rakenteiden pääasiallinen rakennusmateriaali. Vastataan määrällisesti merkittävimmän rakennusmateriaalin mukaan, jos useita vaihtoehtoja.
B69: 4) Pääasiallinen lämmöntuotantomuoto

Sheet Lähtötiedot 2
D1: ='Lähtötiedot 1'!D1 -> Hiilijalanjäljen lähtötietojen ja tulosten raportointi
F2: ='Lähtötiedot 1'!D2 -> versio 10/2026
B3: Tuotteet ja materiaalit, joiden päästötieto perustuu muuhun kuin kansallisen päästötietokannan päästötietoon. Huomioi kuitenkin, että laskennassa saa käyttää ainoastaan arviointimenetelmässä sallittuja päästötietoja. | H3: Tuotteet ja materiaalit, joiden laskelmassa käytetty tekninen käyttöikä poikkeaa EPD:n, RT-kortin tai kansallisen päästötietokannan käyttöikätiedoista.
B5: Rakennusosa/materiaali | C5: Valmistaja | D5: Tuotenimi | E5: EPD:n numero tmv. | F5: Lisähuomiot | H5: Rakennusosa/materiaali | I5: Käytetty käyttöikä
B6: Esim. ontelolaatta | C6: Rudus | D6: xx | E6: xx

Sheet Lähtötiedot (2)
B1: Lähtötietojen raportointi
B4: Perustiedot laskennasta
B5: Hankevaihe, jossa laskelma on tehty
B6: Käytetty laskentaohjelma
B7: Laskelman laatimisen päivämäärä
B8: Mihin tietoihin määrätiedot perustuvat (esim. Carbon Designer, tietomalli, määräluettelo, jne.)
B9: Tuotteet ja materiaalit, joiden päästötieto perustuu EPD:ihin tai vastaaviin selosteisiin (tuote, valmistaja, EPD:n numero)
B11: Perustiedot rakennuksista
B12: Laskennassa käytetty rakennuksen valmistumisvuosi
B13: Kerrosten lukumäärä (erikseen maanpäälliset + maanalaiset)
B14: Lämmitetty huoneala | C14: hum²
B15: Rakennuksen huoneistoala | C15: htm²
B16: Rakennuksen bruttoala | C16: brm²
B17: Vaipan kokonaispinta-ala | C17: m²
B18: Ikkunoiden ja lasijulkisivujen pinta-ala | C18: m²
B19: Ulkoseinän määrä suhteessa alaan | C19: jm/brm²
B20: Rakennuksessa on väestönsuoja | D20: Valitse
B21: Autohalli sisältyy rakennuksen hiilijalanjälkeen | D21: Valitse
B23: Perustiedot rakennusosista ja materiaaleista
B24: Perustamistapa | E24: esim. paaluperustus, antura-sokkeliperustus
B25: Runko | E25: esim. betoni: pilari-palkkirunko, betoni: kantavat ulkoseinät, puu: xxxx, hybridi: xxxx
B26: Julkisivut
B27: Vesikatto
B28: Yläpohja
B29: Alapohja
B30: Välipohja
B32: Perustiedot energiankäytöstä
B33: Energian tuotantomuodot (lämpö, jäähdytys, sähkö)

Sheet Tulokset_V2
A1: Tulosten raportointi
A4: Taulukko 1. Rakennuksen hiilijalanjälki elinkaaren vaiheittain
C5: Rakennukset
A6: Elinkaaren vaihe | C6: Vertailutapaus | D6: Suunnitteluratkaisu
A7: A1-A3 tuotteiden valmistus * | B7: kgCO2e/m2,a | C7: 10 | D7: 8.1
A8: A1-A3 tuotteiden valmistus * | B8: tCO2e | C8: xxxx | D8: xxxx
A9: Suunnitteluratkaisun hiilijalanjälki suhteessa vertailutapaukseen | C9: =(D7-C7)/C7 -> -0.19
A10: *) Eloperäisen hiilen osuutta ei vähennetä, koska tarkastelu rajattu elinkaaren vaiheisiin A1-A3.
A12: Taulukko 2. Elinkaaren vaihe A1-A3 Talo2000-luokittelun mukaisesti (rakennukset + rakennuspaikka) | C12: Perinteinen betonirakennus | G12: Suunnitteluratkaisu | K12: Kuvaus tehdyistä vähähiilisyystoimenpiteistä
B13: Sisällytetty laskentaan | C13: Lähtötiedot määrille ja materiaaleille | E13: Rakenteen/osan kuvaus | F13: A1-A3 kgCO2e/m2 | G13: Lähtötiedot määrille ja materiaaleille | I13: Rakenteen/osan kuvaus | J13: A1-A3 kgCO2e/m2
A14: Alueosat
A15: 1.1.1 Maaosat | B15: Valitse | K15: Alueosat:
A16: 1.1.2 Tuennat ja vahvistukset | B16: Valitse
A17: 1.1.3 Tontin päällysteet | B17: Valitse
A18: 1.1.5 Alueen rakenteet | B18: Valitse
A19: Rakennusosat
A20: 1.2.1 Perustukset | B20: Valitse | K20: Perustukset ja alapohja:
A21: 1.2.2 Alapohjat | B21: Valitse
A22: 1.2.3.1 Runko: Väestönsuojat | B22: Valitse | K22: Runko-rakenteet:
A23: 1.2.3.2 Runko: Kantavat seinät | B23: Valitse
A24: 1.2.3.3 Runko: Pilarit | B24: Valitse
A25: 1.2.3.4 Runko: Palkit | B25: Valitse
A26: 1.2.3.5 Runko: Välipohjat | B26: Valitse
A27: 1.2.3.6 Runko: Yläpohjat | B27: Valitse
A28: 1.2.3.7 Runko: Runkoportaat | B28: Valitse
A29: 1.2.4.1 Julkisivu: Ulkoseinät | B29: Valitse | K29: Julkisivut ja ulkotasot:
A30: 1.2.4.2 Julkisivu: Ikkunat | B30: Valitse
A31: 1.2.4.3 Julkisivu: Ulko-ovet | B31: Valitse
A32: 1.2.5 Ulkotasot ja parvekkeet | B32: Valitse
A33: 1.2.6 Kattorakenteet | B33: Valitse | K33: Vesikatot:
A34: Tilaosat
A35: 1.3.1 Tilan jako-osat (väliseinät, ovet, portaat) | B35: Valitse | K35: Tilaosat:
A36: 1.3.2 Tilapinnat (lattiat, sisäkatot, seinät) | B36: Valitse
A37: 1.3.3 Tilavarusteet (kiintokalusteet, keittiölaitteet) | B37: Valitse
A38: 1.3.4.2 Hormit ja tulisijat | B38: Valitse
A39: 1.3.5 Tilaelementit (mm. kylpyhuonemoduulit) | B39: Valitse
A40: Talotekniikka
A41: Talotekniikka* | B41: Valitse | K41: Talotekniikka:
A42: 2.1.1 Lämmitysjärjestelmät ** | B42: Valitse
A43: 2.1.4 Jäähdytysjärjestelmä *** | B43: Valitse
A44: 2.1.5 Palontorjuntajärjestelmä *** | B44: Valitse
A45: 2.5.1 Siirto-osat (hissit ja liukuportaat) | B45: Valitse
A46: S212 Sähkön tuotantojärjestelmät ja -laitteistot **** | B46: Valitse
A47: *) SYKE-tietokannan rakennustyyppikohtainen neliöpohjainen arvo, joka sisältää 2.1.1 Lämmitysjärjestelmä (pl. Lämmöntuottojärjestelmä), 2.1.2 Vesi- ja viemärijärjestelmät, 2.1.3 Ilmanvaihtojärjestelmä ja S1,S2 Sähkön jakelu- ja käyttöjärjestelmät.
A48: **) Lämmöntuottojärjestelmä (kaukolämpökeskus, maalämpöjärjestelmä, jne.) tulee huomioida aina erikseen, sillä se ei sisälly SYKE-tietokannan rakennustyyppikohtaiseen neliöpohjaiseen arvoon.
A49: ***) Mahdolliset sprinkleri- ja/tai jäähdytysjärjestelmät, jotka eivät kuulu SYKE-tietokannan rakennustyyppikohtaiseen neliöpohjaiseen arvoon.
A50: ****) Aurinkoenergiajärjestelmä tai muut vastaavat, jotka eivät kuulu SYKE-tietokannan rakennustyyppikohtaiseen neliöpohjaiseen arvoon.

Sheet Lähtötiedot monta käyttötarkoit
C1: ='Lähtötiedot 1'!D1 -> Hiilijalanjäljen lähtötietojen ja tulosten raportointi
E2: ='Lähtötiedot 1'!D2 -> versio 10/2026
B4: Lähtötietojen raportointi, monta käyttötarkoitusta
B6: Täytä tämä välilehti vain, jos rakennuksesta on useampi laskelma eri käyttötarkoituksille. Raportoi tälle välilehdelle käyttötarkoitusluokkakohtaiset lähtötiedot.
B8: Käyttötarkoitus 1 | H8: Käyttötarkoitus 2 | N8: Käyttötarkoitus 3 | T8: Käyttötarkoitus 4
B9: Nimeä käyttötarkoitus tai vertailu: | H9: Nimeä käyttötarkoitus tai vertailu: | N9: Nimeä käyttötarkoitus tai vertailu: | T9: Nimeä käyttötarkoitus tai vertailu:
B12: Perustiedot laskennan kohteena olevasta rakennuksen osasta | H12: Perustiedot laskennan kohteena olevasta rakennuksen osasta | N12: Perustiedot laskennan kohteena olevasta rakennuksen osasta | T12: Perustiedot laskennan kohteena olevasta rakennuksen osasta
B13: Käyttötarkoitusluokka | D13: Valitse | H13: Käyttötarkoitusluokka* | J13: Valitse | N13: Käyttötarkoitusluokka* | P13: Valitse | T13: Käyttötarkoitusluokka* | V13: Valitse
B14: Rakennuksen suunniteltu käyttäjämäärä | H14: Rakennuksen suunniteltu käyttäjämäärä* | N14: Rakennuksen suunniteltu käyttäjämäärä* | T14: Rakennuksen suunniteltu käyttäjämäärä*
B15: Maanpäällisten kerrosten lukumäärä | D15: Valitse | H15: Maanpäällisten kerrosten lukumäärä | J15: Valitse | N15: Maanpäällisten kerrosten lukumäärä | P15: Valitse | T15: Maanpäällisten kerrosten lukumäärä | V15: Valitse
B16: Maanalaisten kerrosten lukumäärä | D16: Valitse | H16: Maanalaisten kerrosten lukumäärä | J16: Valitse | N16: Maanalaisten kerrosten lukumäärä | P16: Valitse | T16: Maanalaisten kerrosten lukumäärä | V16: Valitse
B17: Lämmitetty nettoala | C17: n-m² | H17: Lämmitetty nettoala* | I17: n-m² | N17: Lämmitetty nettoala* | O17: n-m² | T17: Lämmitetty nettoala* | U17: n-m²
B19: Perustiedot rakennusosista ja materiaaleista (arviointiin sisältyvien kantavien rakenteiden pääasiallinen rakennusmateriaali, vastataan määrällisesti merkittävimmän rakennusmateriaalin mukaan, jos useita vaihtoehtoja) | H19: Perustiedot rakennusosista ja materiaaleista* (arviointiin sisältyvien kantavien rakenteiden pääasiallinen rakennusmateriaali, vastataan määrällisesti merkittävimmän rakennusmateriaalin mukaan, jos useita vaihtoehtoja) | N19: Perustiedot rakennusosista ja materiaaleista* (arviointiin sisältyvien kantavien rakenteiden pääasiallinen rakennusmateriaali, vastataan määrällisesti merkittävimmän rakennusmateriaalin mukaan, jos useita vaihtoehtoja) | T19: Perustiedot rakennusosista ja materiaaleista* (arviointiin sisältyvien kantavien rakenteiden pääasiallinen rakennusmateriaali, vastataan määrällisesti merkittävimmän rakennusmateriaalin mukaan, jos useita vaihtoehtoja)
B20: Perustamistapa | D20: Valitse | H20: Perustamistapa | J20: Valitse | N20: Perustamistapa | P20: Valitse | T20: Perustamistapa | V20: Valitse
B21: Runko | D21: Valitse | H21: Runko | J21: Valitse | N21: Runko | P21: Valitse | T21: Runko | V21: Valitse
B22: Ulkoseinät | D22: Valitse | H22: Ulkoseinät | J22: Valitse | N22: Ulkoseinät | P22: Valitse | T22: Ulkoseinät | V22: Valitse
B23: Vesikatto | D23: Valitse | H23: Vesikatto | J23: Valitse | N23: Vesikatto | P23: Valitse | T23: Vesikatto | V23: Valitse
B24: Yläpohja | D24: Valitse | H24: Yläpohja | J24: Valitse | N24: Yläpohja | P24: Valitse | T24: Yläpohja | V24: Valitse
B25: Alapohja | D25: Valitse | H25: Alapohja | J25: Valitse | N25: Alapohja | P25: Valitse | T25: Alapohja | V25: Valitse
B26: Välipohjat | D26: Valitse | H26: Välipohjat | J26: Valitse | N26: Välipohjat | P26: Valitse | T26: Välipohjat | V26: Valitse
B28: Perustiedot energiankäytöstä | H28: Perustiedot energiankäytöstä | N28: Perustiedot energiankäytöstä | T28: Perustiedot energiankäytöstä
B29: Energian tuotantomuodot (pääasiallinen lämmöntuotantomuoto) | C29: Lämpö | D29: Valitse | H29: Energian tuotantomuodot (pääasiallinen lämmöntuotantomuoto) | I29: Lämpö | J29: Valitse | N29: Energian tuotantomuodot (pääasiallinen lämmöntuotantomuoto) | O29: Lämpö | P29: Valitse | T29: Energian tuotantomuodot (pääasiallinen lämmöntuotantomuoto) | U29: Lämpö | V29: Valitse
C30: Jäähdytys | D30: Valitse | I30: Jäähdytys | J30: Valitse | O30: Jäähdytys | P30: Valitse | U30: Jäähdytys | V30: Valitse
C31: Sähkö | D31: Valitse | I31: Sähkö | J31: Valitse | O31: Sähkö | P31: Valitse | U31: Sähkö | V31: Valitse
B32: E-luku (vain luku, ei tekstiä) | C32: kWhe/m2,a | H32: E-luku (vain luku, ei tekstiä) | I32: kWhe/m2,a | N32: E-luku (vain luku, ei tekstiä) | O32: kWhe/m2,a | T32: E-luku (vain luku, ei tekstiä) | U32: kWhe/m2,a
B33: Rakennuksen laskennallinen ostoenergiankulutus kWh/a | C33: Kaukolämpö | H33: Rakennuksen laskennallinen ostoenergiankulutus kWh/a* | I33: Kaukolämpö | N33: Rakennuksen laskennallinen ostoenergiankulutus kWh/a* | O33: Kaukolämpö | T33: Rakennuksen laskennallinen ostoenergiankulutus kWh/a* | U33: Kaukolämpö
C34: Kaukojäähdytys | I34: Kaukojäähdytys | O34: Kaukojäähdytys | U34: Kaukojäähdytys
C35: Verkkosähkö | I35: Verkkosähkö | O35: Verkkosähkö | U35: Verkkosähkö

Sheet Tulokset hiilijalanjälki
C1: ='Lähtötiedot 1'!D1 -> Hiilijalanjäljen lähtötietojen ja tulosten raportointi
E2: ='Lähtötiedot 1'!D2 -> versio 10/2026
B3: Tulosten raportointi
B6: Taulukko 1. Hiilijalanjälki elinkaaren vaiheittain (tieto syotetään valkoisiin soluihin kahden desimaalin tarkkuudella mutta näytetään yhden desimaalin tarkkuudella)
B7: Elinkaaren vaihe | C7: Rakennus (raja-arvo koskee tätä osuutta) | D7: Rakennuspaikka | E7: Rakennus (raja-arvo koskee tätä osuutta) | F7: Rakennuspaikka
C8: kgCO2e/m2,a | D8: kgCO2e/m2,a | E8: kgCO2e/m2 | F8: kgCO2e/m2,a
A9: =IF(OR(C9="",D9="",C9<=0,D9<0),1,0) -> 1 | B9: A1-A3 tuotteiden valmistus | C9: =SUM(F44:F56)+SUM(F58:F62)+SUM(F64:F73) -> 0 | D9: =SUM(F38:F41)+F43 -> 0 | E9: =SUM(H44:H56)+SUM(H58:H62)+SUM(H64:H73) -> 0 | F9: =SUM(H38:H41)+H43 -> 0
A10: =IF(OR(C10="",D10="",C10>0,D10>0),1,0) -> 1 | B10: A1-A3 eloperäinen hiili* | E10: =C10*50 -> 0 | F10: =D10*50 -> 0
A11: =IF(OR(C11="",D11="",C11<=0,D11<0),1,0) -> 1 | B11: A4 kuljetukset työmaalle | E11: =C11*50 -> 0 | F11: =D11*50 -> 0
A12: =IF(OR(C12="",D12="",C12<=0,D12<0),1,0) -> 1 | B12: A5 työmaatoiminnot | E12: =C12*50 -> 0 | F12: =D12*50 -> 0
A13: =IF(OR(C13="",D13="",C13<=0,D13<0),1,0) -> 1 | B13: A5 työmaahukka | E13: =C13*50 -> 0 | F13: =D13*50 -> 0
B14: Yhteensä A1-A5 | C14: =SUM(C9:C13) -> 0 | D14: =SUM(D9:D13) -> 0 | E14: =SUM(E9:E13) -> 0 | F14: =SUM(F9:F13) -> 0
B15: B1 rakennustuotteiden käyttö | E15: =C15*50 -> 0 | F15: =D15*50 -> 0
B16: B2 rakennuksen kunnossapito | E16: =C16*50 -> 0 | F16: =D16*50 -> 0
B17: B3 rakennuksen korjaus | E17: =C17*50 -> 0 | F17: =D17*50 -> 0
A18: =IF(OR(C18="",D18="",C18<=0,D18<0),1,0) -> 1 | B18: B4 rakennustuotteiden vaihdot | C18: =SUM(G44:G56)+SUM(G58:G62)+SUM(G64:G73) -> 0 | D18: =SUM(G38:G41)+G43 -> 0 | E18: =SUM(I44:I56)+SUM(I58:I62)+SUM(I64:I73) -> 0 | F18: =SUM(I38:I41)+I43 -> 0
A19: =IF(OR(C19="",D19="",C19<=0,D19<0),1,0) -> 1 | B19: B4 eloperäinen hiili* | E19: =C19*50 -> 0 | F19: =D19*50 -> 0
A20: =IF(OR(C20="",D20="",C20<=0,D20<0),1,0) -> 1 | B20: B6 energian käyttö | E20: =C20*50 -> 0 | F20: =D20*50 -> 0
B21: Yhteensä B4, B6 | C21: =SUM(C18:C20) -> 0 | D21: =SUM(D18:D20) -> 0 | E21: =SUM(E18:E20) -> 0 | F21: =SUM(F18:F20) -> 0
A22: =IF(OR(C22="",D22="",C22<=0,D22<0),1,0) -> 1 | B22: C1 purkutyöt | E22: =C22*50 -> 0 | F22: =D22*50 -> 0
A23: =IF(OR(C23="",D23="",C23<=0,D23<0),1,0) -> 1 | B23: C2 purkujätteen kuljetukset | E23: =C23*50 -> 0 | F23: =D23*50 -> 0
A24: =IF(OR(C24="",D24="",C24<=0,D24<0),1,0) -> 1 | B24: C3 purkujätteen käsittely | E24: =C24*50 -> 0 | F24: =D24*50 -> 0
A25: =IF(OR(C25="",D25="",C25<=0,D25<0),1,0) -> 1 | B25: C4 purkujätteen loppusijoitus | E25: =C25*50 -> 0 | F25: =D25*50 -> 0
A26: =IF(OR(C26="",D26="",C26<0,D26<0),1,0) -> 1 | B26: C3 eloperäinen hiili** | E26: =C26*50 -> 0 | F26: =D26*50 -> 0
B27: Yhteensä C1-C4 | C27: =SUM(C22:C26) -> 0 | D27: =SUM(D22:D26) -> 0 | E27: =SUM(E22:E26) -> 0 | F27: =SUM(F22:F26) -> 0
B28: Yhteensä koko elinkaari (A1-A5 + B4 + B6 + C1-C4) | C28: =C14+C21+C27 -> 0 | D28: =D14+D21+D27 -> 0 | E28: =E14+E21+E27 -> 0 | F28: =F14+F21+F27 -> 0
B30: *) Eloperäisen hiilen negatiivinen luku tulee ilmoittaa summattuna taulukkoon 1 vaiheiden A1-A3 ja B4 osalta, kun puun korjuulla ei ole pysyvästi heikennetty ekosysteemin hiilinielua.
B31: **) Omalle rivilleen elinkaaren lopussa vapautuva eloperäinen hiili.
A32: =IF(C32="",1,0) -> 1 | B32: Parkkihallin hiilijalanjälki koko elinkaaren ajalta (A1-A5,B4,B6,C1-C4) * | D32: kgCO2e/m²,a
B33: *) Suuruusluokan osoittava arvio riittää (esim. autohallin rakenteisiin perustuen). Parkkihalli tulee ilmoittaa taulukko 1:een ja ilmoittaa tässä vain lisätietona. m2=rakennuksen lämmitetty nettoala
B35: Taulukko 2. Elinkaaren vaihe A1-A3 ja B4 Talo2000-luokittelun mukaisesti (rakennukset + rakennuspaikka)
C36: Sisällytetty laskentaan 1 | D36: Lähtötiedot määrille ja materiaaleille 2 | E36: Rakenteen/osan/ järjestelmän kuvaus 3 Seuraavista materiaalipaksuudet: AP, YP, VP, US | F36: A1-A3 kgCO2e/m2,a 4 | G36: B4 kgCO2e/m2,a 4 | H36: A1-A3 kgCO2e/m2 | I36: B4 kgCO2e/m2 | J36: Kuvaus tehdyistä vähähiilisyystoimenpiteistä. Kirjaa ylös myös, jos erityisiä toimenpiteitä ei ole tehty.
B37: ALUEOSAT
A38: =IF(AND(OR(C38="Valitse",C38="Kyllä"),OR(D38="",E38="",OR(F38="",G38=""))),1,0) -> 1 | B38: 1.1.1 Maaosat | C38: Valitse | H38: =F38*50 -> 0 | I38: =G38*50 -> 0 | J38: Alueosat: | L38: =IF(K38="",1,0) -> 1
A39: =IF(AND(OR(C39="Valitse",C39="Kyllä"),OR(D39="",E39="",OR(F39="",G39=""))),1,0) -> 1 | B39: 1.1.2 Tuennat ja vahvistukset | C39: Valitse | H39: =F39*50 -> 0 | I39: =G39*50 -> 0
A40: =IF(AND(OR(C40="Valitse",C40="Kyllä"),OR(D40="",E40="",OR(F40="",G40=""))),1,0) -> 1 | B40: 1.1.3 Tontin päällysteet | C40: Valitse | H40: =F40*50 -> 0 | I40: =G40*50 -> 0
A41: =IF(AND(OR(C41="Valitse",C41="Kyllä"),OR(D41="",E41="",OR(F41="",G41=""))),1,0) -> 1 | B41: 1.1.5 Alueen rakenteet | C41: Valitse | H41: =F41*50 -> 0 | I41: =G41*50 -> 0
A42: =IF(AND(OR(C42="Valitse",C42="Kyllä"),OR(D42="",E42="",OR(F42="",G42="",F42<=0))),1,0) -> 0 | B42: RAKENNUSOSAT
A43: =IF(AND(OR(C43="Valitse",C43="Kyllä"),OR(D43="",E43="",OR(F43="",G43="",F43<=0))),1,0) -> 1 | B43: 1.2.1 Perustukset | C43: Valitse | H43: =F43*50 -> 0 | I43: =G43*50 -> 0 | J43: Perustukset ja alapohja: | L43: =IF(K43="",1,0) -> 1
A44: =IF(AND(OR(C44="Valitse",C44="Kyllä"),OR(D44="",E44="",OR(F44="",G44="",F44<=0))),1,0) -> 1 | B44: 1.2.2 Alapohjat | C44: Valitse | H44: =F44*50 -> 0 | I44: =G44*50 -> 0
A45: =IF(AND(OR(C45="Valitse",C45="Kyllä"),OR(D45="",E45="",OR(F45="",G45="",F45<=0))),1,0) -> 1 | B45: 1.2.3.1 Runko: Väestönsuojat | C45: Valitse | H45: =F45*50 -> 0 | I45: =G45*50 -> 0 | J45: Runko- rakenteet: | L45: =IF(K45="",1,0) -> 1
A46: =IF(AND(OR(C46="Valitse",C46="Kyllä"),OR(D46="",E46="",OR(F46="",G46="",F46<=0))),1,0) -> 1 | B46: 1.2.3.2 Runko: Kantavat seinät | C46: Valitse | H46: =F46*50 -> 0 | I46: =G46*50 -> 0
A47: =IF(AND(OR(C47="Valitse",C47="Kyllä"),OR(D47="",E47="",OR(F47="",G47="",F47<=0))),1,0) -> 1 | B47: 1.2.3.3 Runko: Pilarit | C47: Valitse | H47: =F47*50 -> 0 | I47: =G47*50 -> 0
A48: =IF(AND(OR(C48="Valitse",C48="Kyllä"),OR(D48="",E48="",OR(F48="",G48="",F48<=0))),1,0) -> 1 | B48: 1.2.3.4 Runko: Palkit | C48: Valitse | H48: =F48*50 -> 0 | I48: =G48*50 -> 0
A49: =IF(AND(OR(C49="Valitse",C49="Kyllä"),OR(D49="",E49="",OR(F49="",G49="",F49<=0))),1,0) -> 1 | B49: 1.2.3.5 Runko: Välipohjat | C49: Valitse | H49: =F49*50 -> 0 | I49: =G49*50 -> 0
A50: =IF(AND(OR(C50="Valitse",C50="Kyllä"),OR(D50="",E50="",OR(F50="",G50="",F50<=0))),1,0) -> 1 | B50: 1.2.3.6 Runko: Yläpohjat | C50: Valitse | H50: =F50*50 -> 0 | I50: =G50*50 -> 0
A51: =IF(AND(OR(C51="Valitse",C51="Kyllä"),OR(D51="",E51="",OR(F51="",G51=""))),1,0) -> 1 | B51: 1.2.3.7 Runko: Runkoportaat | C51: Valitse | H51: =F51*50 -> 0 | I51: =G51*50 -> 0
A52: =IF(AND(OR(C52="Valitse",C52="Kyllä"),OR(D52="",E52="",OR(F52="",G52="",F52<=0))),1,0) -> 1 | B52: 1.2.4.1 Julkisivu: Ulkoseinät | C52: Valitse | H52: =F52*50 -> 0 | I52: =G52*50 -> 0 | J52: Julkisivut ja ulkotasot: | L52: =IF(K52="",1,0) -> 1
A53: =IF(AND(OR(C53="Valitse",C53="Kyllä"),OR(D53="",E53="",OR(F53="",G53="",F53<=0))),1,0) -> 1 | B53: 1.2.4.2 Julkisivu: Ikkunat | C53: Valitse | H53: =F53*50 -> 0 | I53: =G53*50 -> 0
A54: =IF(AND(OR(C54="Valitse",C54="Kyllä"),OR(D54="",E54="",OR(F54="",G54="",F54<=0))),1,0) -> 1 | B54: 1.2.4.3 Julkisivu: Ulko-ovet | C54: Valitse | H54: =F54*50 -> 0 | I54: =G54*50 -> 0
A55: =IF(AND(OR(C55="Valitse",C55="Kyllä"),OR(D55="",E55="",OR(F55="",G55=""))),1,0) -> 1 | B55: 1.2.5 Ulkotasot ja parvekkeet | C55: Valitse | H55: =F55*50 -> 0 | I55: =G55*50 -> 0
A56: =IF(AND(OR(C56="Valitse",C56="Kyllä"),OR(D56="",E56="",OR(F56="",G56="",F56<=0))),1,0) -> 1 | B56: 1.2.6 Kattorakenteet | C56: Valitse | H56: =F56*50 -> 0 | I56: =G56*50 -> 0 | J56: Vesikatot: | L56: =IF(K56="",1,0) -> 1
A57: =IF(AND(OR(C57="Valitse",C57="Kyllä"),OR(D57="",E57="",OR(F57="",G57="",F57<=0))),1,0) -> 0 | B57: TILAOSAT
A58: =IF(AND(OR(C58="Valitse",C58="Kyllä"),OR(D58="",E58="",OR(F58="",G58="",F58<=0,G58<=0))),1,0) -> 1 | B58: 1.3.1 Tilan jako-osat (väliseinät, ovet, portaat) | C58: Valitse | H58: =F58*50 -> 0 | I58: =G58*50 -> 0 | J58: Tilaosat: | L58: =IF(K58="",1,0) -> 1
A59: =IF(AND(OR(C59="Valitse",C59="Kyllä"),OR(D59="",E59="",OR(F59="",G59="",F59<=0,G59<=0))),1,0) -> 1 | B59: 1.3.2 Tilapinnat (lattiat, sisäkatot, seinät) | C59: Valitse | H59: =F59*50 -> 0 | I59: =G59*50 -> 0
A60: =IF(AND(OR(C60="Valitse",C60="Kyllä"),OR(D60="",E60="",OR(F60="",G60="",F60<=0,G60<=0))),1,0) -> 1 | B60: 1.3.3 Tilavarusteet (kiintokalusteet, keittiölaitteet) | C60: Valitse | H60: =F60*50 -> 0 | I60: =G60*50 -> 0
A61: =IF(AND(OR(C61="Valitse",C61="Kyllä"),OR(D61="",E61="",OR(F61="",G61=""))),1,0) -> 1 | B61: 1.3.4.2 Hormit ja tulisijat | C61: Valitse | H61: =F61*50 -> 0 | I61: =G61*50 -> 0
A62: =IF(AND(OR(C62="Valitse",C62="Kyllä"),OR(D62="",E62="",OR(F62="",G62=""))),1,0) -> 1 | B62: 1.3.5 Tilaelementit (mm. kylpyhuonemoduulit) | C62: Valitse | H62: =F62*50 -> 0 | I62: =G62*50 -> 0
A63: =IF(AND(OR(C63="Valitse",C63="Kyllä"),OR(D63="",E63="",OR(F63="",G63="",F63<=0))),1,0) -> 0 | B63: TALOTEKNIIKKA
A64: =IF(AND(OR(C64="Valitse",C64="Kyllä"),OR(D64="",E64="",OR(F64="",G64="",F64<=0,G64<=0))),1,0) -> 1 | B64: Talotekniikka yhteensä 5 | C64: Valitse | H64: =F64*50 -> 0 | I64: =G64*50 -> 0 | J64: Talo-tekniikka: | L64: =IF(K64="",1,0) -> 1
B65: Sähköjärjestelmät 6 | C65: Valitse | H65: =F65*50 -> 0 | I65: =G65*50 -> 0
B66: Käyttövesijärjestelmät 6 | C66: Valitse | H66: =F66*50 -> 0 | I66: =G66*50 -> 0
B67: Viemärijärjestelmät 6 | C67: Valitse | H67: =F67*50 -> 0 | I67: =G67*50 -> 0
B68: Ilmanvaihtojärjestelmät 6 | C68: Valitse | H68: =F68*50 -> 0 | I68: =G68*50 -> 0
B69: Lämmitysjärjestelmät 6,7 | C69: Valitse | H69: =F69*50 -> 0 | I69: =G69*50 -> 0
B70: Jäähdytysjärjestelmät 8 | C70: Valitse | H70: =F70*50 -> 0 | I70: =G70*50 -> 0
B71: Palontorjuntajärjestelmä 8 | C71: Valitse | H71: =F71*50 -> 0 | I71: =G71*50 -> 0
B72: Siirto-osat 9 (hissit ja liukuportaat) | C72: Valitse | H72: =F72*50 -> 0 | I72: =G72*50 -> 0
B73: Sähkön tuotantojärjestelmät ja -laitteistot10 | C73: Valitse | H73: =F73*50 -> 0 | I73: =G73*50 -> 0
A74: =IF(AND(OR(C74="Valitse",C74="Kyllä"),OR(D74="",E74="",OR(F74="",G74=""))),1,0) -> 0
B75: 1) Jos rakennukseen tai rakennuspaikkaan kuuluu kyseinen osa, se tulee sisällyttää laskentaan. Jos suunnittelutietoja ei ole, tulee käyttää referenssitietoja.
B76: 2) Kuvaa, mihin määrä- ja materiaalitiedot perustuvat, esim. ARK-tietomalli (pvm), RAK-suunnitelmat (pvm), määräluettelo (pvm), Carbon Designer, jne.
B77: 3) Kuvaa jokaisen rakennusosan pääasiallinen rakennetyyppi tai -tyypit. Ilmoita rakenteiden eri materiaalien paksuudet AP, YP, VP ja US osalta. Esimerkiksi YP: Tasausbetoni 40 mm, suodatinkangas, kevytsora 680-830 mm, solupolystreeni 100 mm, kumibitumikermi, ontelolaatta 320 mm
B78: 4) Eloperänen hiili tuotteissa: eloperäisen hiilen negatiivinen luku tulee ilmoittaa summattuna taulukkoon 1 vaiheiden A1-A3 ja B4 osalta, joten eloperäisen hiilen negatiivista lukua ei tule huomioida rakennusosakohtaisesti taulukossa 2. Katso ohje sivulta Lähtötiedot 1.
B79: 5) Kansallisen päästötietokannan rakennustyyppikohtainen neliöpohjainen arvo. Talotekniikan voi laskea myös tarkemmin kohdekohtaisesti, tai osan järjestelmistä voi laskea kohdekohtaisesti ja osan taulukkoarvoilla. Jos laskenta on tehty tarkemmin kohdekohtaisesti, kirjaa tulokset järjestelmittäin. Kansallisen päästötietokannan neliöpohjaisista kertoimista puuttuvat järjestelmät tulee lisätä järjestelmittäin kohtien 6-10 mukaisesti.
B80: 6) Sähkö-, käyttövesi-, viemäri-, ilmanvaihto-, jäähdytys- ja lämmitysjärjestelmät: kansallisen päästötietokannan neliöpohjainen järjestelmäkohtainen arvo tai tuotekohtaisesti laskettu päästötieto.
B81: 7) Päästötietokannan neliöpohjaista arvoa käytettäessä, lisää lämmitys- ja lämmöntuottojärjestelmän osat, jotka eivät ole mukana päästötietokannan rakennustyyppikohtaisessa neliöpohjaisessa arvossa. Tulee tarkastaa päästötietokannan taustaraportista.
B82: 8) Lisää mahdolliset sprinkleri- ja/tai jäähdytysjärjestelmät, jotka eivät ole mukana päästötietokannan rakennustyyppikohtaisessa neliöpohjaisessa arvossa. Tulee tarkastaa päästötietokannan taustaraportista.
B83: 9) Siirto-osat, jotka eivät ole mukana päästötietokannan rakennustyyppikohtaisessa neliöpohjaisessa arvossa. Tulee tarkastaa päästötietokannan taustaraportista.
B84: 10) Aurinkoenergiajärjestelmä tai muut vastaavat, jotka eivät kuulu päästötietokannan rakennustyyppikohtaiseen neliöpohjaiseen arvoon. Tulee tarkastaa päästötietokannan taustaraportista.

Sheet Tulokset hiilikädenjälki
C1: ='Lähtötiedot 1'!D1 -> Hiilijalanjäljen lähtötietojen ja tulosten raportointi
E2: ='Lähtötiedot 1'!D2 -> versio 10/2026
B4: Taulukko 3. Hiilikädenjälki
B5: Elinkaaren vaihe | D5: Rakennukset | E5: Rakennuspaikka
D6: kgCO2e/m2,a | E6: kgCO2e/m2,a
B7: Uudelleenkäyttö | D7: 0 | E7: 0
B8: Materiaalikierrätys | D8: 0 | E8: 0
B9: Ylimääräinen uusiutuva energia | D9: 0 | E9: 0
B10: Tuotteiden hiilivarastovaikutus | D10: 0 | E10: 0
B11: Karbonatisoituminen | D11: 0 | E11: 0

Sheet Tulokset monta käyttötarkoitust
C1: ='Lähtötiedot 1'!D1 -> Hiilijalanjäljen lähtötietojen ja tulosten raportointi
E2: ='Lähtötiedot 1'!D2 -> versio 10/2026
B3: Tulosten raportointi, monta käyttötarkoitusta
B5: Täytä tämä välilehti vain, jos: - rakennuksesta on useampi laskelma eri käyttötarkoituksille. Raportoi tälle välilehdelle käyttötarkoitusluokkakohtaiset tulokset ja rakennuksen kokonaistulos Tulokset hiilijalanjälki välilehdelle. - teet vertailuja eri ratkaisujen välillä (Vähähiilisyysvertailu). Kuvaile kyseinen vertailu rivin 9 soluun. Kirjaa taulukkoon 4 kopio perusratkaisusta Tulokset hiilijalanjälki -välilehdeltä ja seuraaviin taulukoihin hiilijalanjälkivertailujen tiedot kopioimalla ja muuttamalla vain vertailussa muutettava tieto. Rakenteen kuvailun taulukkoon 7, 9, 11, 13 ja 15 voit tehdä vain perusratkaista eroavan rakenteen osalta. Jos teet energiantuotantovaihtoehtojen vertailuja tai rakennuksen lähtötiedot muuttuvat vertailussa, merkitse tiedot Lähtötiedot monta käyttötarkoitusta -välilehdelle. - vertailet saman hankkeen eri vaiheita (Hankevaiheen vertailu): Voit vertailla saman hankkeen hiilijalanjälkeä eri vaiheissa. Kuvaile hankevaihe rivin 9 soluun.
B7: Taulukko 4. Käyttötarkoitus 1/ Vähähiilisyysvertailu/ Hankevaiheen vertailu | G7: Taulukko 6. Käyttötarkoitus 2/ Vähähiilisyysvertailu/ Hankevaiheen vertailu | L7: Taulukko 8. Käyttötarkoitus 3/ Vähähiilisyysvertailu/ Hankevaiheen vertailu | Q7: Taulukko 10. Käyttötarkoitus 4/ Vähähiilisyysvertailu/ Hankevaiheen vertailu | V7: Taulukko 12. Vähähiilisyysvertailu/ Hankevaiheen vertailu | AA7: Taulukko 14. Vähähiilisyysvertailu/ Hankevaiheen vertailu
B8: Nimeä käyttötarkoitus tai vertailu: | G8: Nimeä käyttötarkoitus tai vertailu: | L8: Nimeä käyttötarkoitus tai vertailu: | Q8: Nimeä käyttötarkoitus tai vertailu: | V8: Nimeä vertailu: | AA8: Nimeä vertailu:
B10: Hiilijalanjälki elinkaaren vaiheittain (tieto syotetään valkoisiin soluihin kahden desimaalin tarkkuudella mutta näytetään yhden desimaalin tarkkuudella) | G10: Hiilijalanjälki elinkaaren vaiheittain (tieto syotetään valkoisiin soluihin kahden desimaalin tarkkuudella mutta näytetään yhden desimaalin tarkkuudella) | L10: Hiilijalanjälki elinkaaren vaiheittain (tieto syotetään valkoisiin soluihin kahden desimaalin tarkkuudella mutta näytetään yhden desimaalin tarkkuudella) | Q10: Hiilijalanjälki elinkaaren vaiheittain (tieto syotetään valkoisiin soluihin kahden desimaalin tarkkuudella mutta näytetään yhden desimaalin tarkkuudella) | V10: Hiilijalanjälki elinkaaren vaiheittain (tieto syotetään valkoisiin soluihin kahden desimaalin tarkkuudella mutta näytetään yhden desimaalin tarkkuudella) | AA10: Hiilijalanjälki elinkaaren vaiheittain (tieto syotetään valkoisiin soluihin kahden desimaalin tarkkuudella mutta näytetään yhden desimaalin tarkkuudella)
B11: Elinkaaren vaihe | C11: Rakennus | G11: Elinkaaren vaihe | H11: Rakennus | L11: Elinkaaren vaihe | M11: Rakennus | Q11: Elinkaaren vaihe | R11: Rakennus | V11: Elinkaaren vaihe | W11: Rakennus | AA11: Elinkaaren vaihe | AB11: Rakennus
C12: kgCO2e/m2/a | H12: kgCO2e/m2/a | M12: kgCO2e/m2/a | R12: kgCO2e/m2/a | W12: kgCO2e/m2/a | AB12: kgCO2e/m2/a
A13: =IF(OR(C13="",C13<=0),1,0) -> 1 | B13: A1-A3 Rakennustuotteiden valmistus | F13: =IF(OR(H13="",H13<=0),1,0) -> 1 | G13: A1-A3 Rakennustuotteiden valmistus | K13: =IF(OR(M13="",M13<=0),1,0) -> 1 | L13: A1-A3 Rakennustuotteiden valmistus | P13: =IF(OR(R13="",R13<=0),1,0) -> 1 | Q13: A1-A3 Rakennustuotteiden valmistus | U13: =IF(OR(W13="",W13<=0),1,0) -> 1 | V13: A1-A3 Rakennustuotteiden valmistus | Z13: =IF(OR(AB13="",AB13<=0),1,0) -> 1 | AA13: A1-A3 Rakennustuotteiden valmistus
A14: =IF(OR(C14="",C14>0),1,0) -> 1 | B14: A1-A3 eloperäinen hiili* | F14: =IF(OR(H14="",H14>0),1,0) -> 1 | G14: A1-A3 eloperäinen hiili* | K14: =IF(OR(M14="",M14>0),1,0) -> 1 | L14: A1-A3 eloperäinen hiili* | P14: =IF(OR(R14="",R14>0),1,0) -> 1 | Q14: A1-A3 eloperäinen hiili* | U14: =IF(OR(W14="",W14>0),1,0) -> 1 | V14: A1-A3 eloperäinen hiili* | Z14: =IF(OR(AB14="",AB14>0),1,0) -> 1 | AA14: A1-A3 eloperäinen hiili*
A15: =IF(OR(C15="",C15<=0),1,0) -> 1 | B15: A4 Kuljetukset | F15: =IF(OR(H15="",H15<=0),1,0) -> 1 | G15: A4 Kuljetukset | K15: =IF(OR(M15="",M15<=0),1,0) -> 1 | L15: A4 Kuljetukset | P15: =IF(OR(R15="",R15<=0),1,0) -> 1 | Q15: A4 Kuljetukset | U15: =IF(OR(W15="",W15<=0),1,0) -> 1 | V15: A4 Kuljetukset | Z15: =IF(OR(AB15="",AB15<=0),1,0) -> 1 | AA15: A4 Kuljetukset
A16: =IF(OR(C16="",C16<=0),1,0) -> 1 | B16: A5 Työmaatoiminnot | F16: =IF(OR(H16="",H16<=0),1,0) -> 1 | G16: A5 Työmaatoiminnot | K16: =IF(OR(M16="",M16<=0),1,0) -> 1 | L16: A5 Työmaatoiminnot | P16: =IF(OR(R16="",R16<=0),1,0) -> 1 | Q16: A5 Työmaatoiminnot | U16: =IF(OR(W16="",W16<=0),1,0) -> 1 | V16: A5 Työmaatoiminnot | Z16: =IF(OR(AB16="",AB16<=0),1,0) -> 1 | AA16: A5 Työmaatoiminnot
A17: =IF(OR(C17="",C17<=0),1,0) -> 1 | B17: A5 työmaahukka | F17: =IF(OR(H17="",H17<=0),1,0) -> 1 | G17: A5 työmaahukka | K17: =IF(OR(M17="",M17<=0),1,0) -> 1 | L17: A5 työmaahukka | P17: =IF(OR(R17="",R17<=0),1,0) -> 1 | Q17: A5 työmaahukka | U17: =IF(OR(W17="",W17<=0),1,0) -> 1 | V17: A5 työmaahukka | Z17: =IF(OR(AB17="",AB17<=0),1,0) -> 1 | AA17: A5 työmaahukka
B18: Yhteensä A1-A5 | C18: =SUM(C13:C17) -> 0 | G18: Yhteensä A1-A5 | H18: =SUM(H13:H17) -> 0 | L18: Yhteensä A1-A5 | M18: =SUM(M13:M17) -> 0 | Q18: Yhteensä A1-A5 | R18: =SUM(R13:R17) -> 0 | V18: Yhteensä A1-A5 | W18: =SUM(W13:W17) -> 0 | AA18: Yhteensä A1-A5 | AB18: =SUM(AB13:AB17) -> 0
A19: =IF(OR(C19="",C19<=0),1,0) -> 1 | B19: B1 rakennustuotteiden käyttö | F19: =IF(OR(H19="",H19<=0),1,0) -> 1 | G19: B1 rakennustuotteiden käyttö | K19: =IF(OR(M19="",M19<=0),1,0) -> 1 | L19: B1 rakennustuotteiden käyttö | P19: =IF(OR(R19="",R19<=0),1,0) -> 1 | Q19: B1 rakennustuotteiden käyttö | U19: =IF(OR(W19="",W19<=0),1,0) -> 1 | V19: B1 rakennustuotteiden käyttö | Z19: =IF(OR(AB19="",AB19<=0),1,0) -> 1 | AA19: B1 rakennustuotteiden käyttö
A20: =IF(OR(C20="",C20<=0),1,0) -> 1 | B20: B2 rakennuksen kunnossapito | F20: =IF(OR(H20="",H20<=0),1,0) -> 1 | G20: B2 rakennuksen kunnossapito | K20: =IF(OR(M20="",M20<=0),1,0) -> 1 | L20: B2 rakennuksen kunnossapito | P20: =IF(OR(R20="",R20<=0),1,0) -> 1 | Q20: B2 rakennuksen kunnossapito | U20: =IF(OR(W20="",W20<=0),1,0) -> 1 | V20: B2 rakennuksen kunnossapito | Z20: =IF(OR(AB20="",AB20<=0),1,0) -> 1 | AA20: B2 rakennuksen kunnossapito
A21: =IF(OR(C21="",C21<=0),1,0) -> 1 | B21: B3 rakennuksen korjaus | F21: =IF(OR(H21="",H21<=0),1,0) -> 1 | G21: B3 rakennuksen korjaus | K21: =IF(OR(M21="",M21<=0),1,0) -> 1 | L21: B3 rakennuksen korjaus | P21: =IF(OR(R21="",R21<=0),1,0) -> 1 | Q21: B3 rakennuksen korjaus | U21: =IF(OR(W21="",W21<=0),1,0) -> 1 | V21: B3 rakennuksen korjaus | Z21: =IF(OR(AB21="",AB21<=0),1,0) -> 1 | AA21: B3 rakennuksen korjaus
A22: =IF(OR(C22="",C22<=0),1,0) -> 1 | B22: B4 Rakennustuotteiden vaihdot | F22: =IF(OR(H22="",H22<=0),1,0) -> 1 | G22: B4 Rakennustuotteiden vaihdot | K22: =IF(OR(M22="",M22<=0),1,0) -> 1 | L22: B4 Rakennustuotteiden vaihdot | P22: =IF(OR(R22="",R22<=0),1,0) -> 1 | Q22: B4 Rakennustuotteiden vaihdot | U22: =IF(OR(W22="",W22<=0),1,0) -> 1 | V22: B4 Rakennustuotteiden vaihdot | Z22: =IF(OR(AB22="",AB22<=0),1,0) -> 1 | AA22: B4 Rakennustuotteiden vaihdot
A23: =IF(OR(C23="",C23<=0),1,0) -> 1 | B23: B4 eloperäinen hiili* | F23: =IF(OR(H23="",H23<=0),1,0) -> 1 | G23: B4 eloperäinen hiili* | K23: =IF(OR(M23="",M23<=0),1,0) -> 1 | L23: B4 eloperäinen hiili* | P23: =IF(OR(R23="",R23<=0),1,0) -> 1 | Q23: B4 eloperäinen hiili* | U23: =IF(OR(W23="",W23<=0),1,0) -> 1 | V23: B4 eloperäinen hiili* | Z23: =IF(OR(AB23="",AB23<=0),1,0) -> 1 | AA23: B4 eloperäinen hiili*
A24: =IF(OR(C24="",C24<=0),1,0) -> 1 | B24: B6 Energian käyttö | F24: =IF(OR(H24="",H24<=0),1,0) -> 1 | G24: B6 Energian käyttö | K24: =IF(OR(M24="",M24<=0),1,0) -> 1 | L24: B6 Energian käyttö | P24: =IF(OR(R24="",R24<=0),1,0) -> 1 | Q24: B6 Energian käyttö | U24: =IF(OR(W24="",W24<=0),1,0) -> 1 | V24: B6 Energian käyttö | Z24: =IF(OR(AB24="",AB24<=0),1,0) -> 1 | AA24: B6 Energian käyttö
B25: Yhteensä B4, B6 | C25: =SUM(C22:C24) -> 0 | G25: Yhteensä B4, B6 | H25: =SUM(H22:H24) -> 0 | L25: Yhteensä B4, B6 | M25: =SUM(M22:M24) -> 0 | Q25: Yhteensä B4, B6 | R25: =SUM(R22:R24) -> 0 | V25: Yhteensä B4, B6 | W25: =SUM(W22:W24) -> 0 | AA25: Yhteensä B4, B6 | AB25: =SUM(AB22:AB24) -> 0
A26: =IF(OR(C26="",C26<=0),1,0) -> 1 | B26: C1 Purkaminen | F26: =IF(OR(H26="",H26<=0),1,0) -> 1 | G26: C1 Purkaminen | K26: =IF(OR(M26="",M26<=0),1,0) -> 1 | L26: C1 Purkaminen | P26: =IF(OR(R26="",R26<=0),1,0) -> 1 | Q26: C1 Purkaminen | U26: =IF(OR(W26="",W26<=0),1,0) -> 1 | V26: C1 Purkaminen | Z26: =IF(OR(AB26="",AB26<=0),1,0) -> 1 | AA26: C1 Purkaminen
A27: =IF(OR(C27="",C27<=0),1,0) -> 1 | B27: C2 Purkujätteen kuljetukset | F27: =IF(OR(H27="",H27<=0),1,0) -> 1 | G27: C2 Purkujätteen kuljetukset | K27: =IF(OR(M27="",M27<=0),1,0) -> 1 | L27: C2 Purkujätteen kuljetukset | P27: =IF(OR(R27="",R27<=0),1,0) -> 1 | Q27: C2 Purkujätteen kuljetukset | U27: =IF(OR(W27="",W27<=0),1,0) -> 1 | V27: C2 Purkujätteen kuljetukset | Z27: =IF(OR(AB27="",AB27<=0),1,0) -> 1 | AA27: C2 Purkujätteen kuljetukset
A28: =IF(OR(C28="",C28<=0),1,0) -> 1 | B28: C3 Purkujätteen käsittely | F28: =IF(OR(H28="",H28<=0),1,0) -> 1 | G28: C3 Purkujätteen käsittely | K28: =IF(OR(M28="",M28<=0),1,0) -> 1 | L28: C3 Purkujätteen käsittely | P28: =IF(OR(R28="",R28<=0),1,0) -> 1 | Q28: C3 Purkujätteen käsittely | U28: =IF(OR(W28="",W28<=0),1,0) -> 1 | V28: C3 Purkujätteen käsittely | Z28: =IF(OR(AB28="",AB28<=0),1,0) -> 1 | AA28: C3 Purkujätteen käsittely
A29: =IF(OR(C29="",C29<=0),1,0) -> 1 | B29: C4 Purkujätteen loppusijoitus | F29: =IF(OR(H29="",H29<=0),1,0) -> 1 | G29: C4 Purkujätteen loppusijoitus | K29: =IF(OR(M29="",M29<=0),1,0) -> 1 | L29: C4 Purkujätteen loppusijoitus | P29: =IF(OR(R29="",R29<=0),1,0) -> 1 | Q29: C4 Purkujätteen loppusijoitus | U29: =IF(OR(W29="",W29<=0),1,0) -> 1 | V29: C4 Purkujätteen loppusijoitus | Z29: =IF(OR(AB29="",AB29<=0),1,0) -> 1 | AA29: C4 Purkujätteen loppusijoitus
A30: =IF(OR(C30="",C30<=0),1,0) -> 1 | B30: C3 eloperäinen hiili** | F30: =IF(OR(H30="",H30<=0),1,0) -> 1 | G30: C3 eloperäinen hiili** | K30: =IF(OR(M30="",M30<=0),1,0) -> 1 | L30: C3 eloperäinen hiili** | P30: =IF(OR(R30="",R30<=0),1,0) -> 1 | Q30: C3 eloperäinen hiili** | U30: =IF(OR(W30="",W30<=0),1,0) -> 1 | V30: C3 eloperäinen hiili** | Z30: =IF(OR(AB30="",AB30<=0),1,0) -> 1 | AA30: C3 eloperäinen hiili**
B31: Yhteensä C1-C4 | C31: =SUM(C26:C30) -> 0 | G31: Yhteensä C1-C4 | H31: =SUM(H26:H30) -> 0 | L31: Yhteensä C1-C4 | M31: =SUM(M26:M30) -> 0 | Q31: Yhteensä C1-C4 | R31: =SUM(R26:R30) -> 0 | V31: Yhteensä C1-C4 | W31: =SUM(W26:W30) -> 0 | AA31: Yhteensä C1-C4 | AB31: =SUM(AB26:AB30) -> 0
B32: Yhteensä koko elinkaari, kgCO2e/m2/a (A1-A5 + B4 + B6 + C1-C4) | C32: =C18+C25+C31 -> 0 | G32: Yhteensä koko elinkaari, kgCO2e/m2/a (A1-A5 + B4 + B6 + C1-C4) | H32: =H18+H25+H31 -> 0 | L32: Yhteensä koko elinkaari, kgCO2e/m2/a (A1-A5 + B4 + B6 + C1-C4) | M32: =M18+M25+M31 -> 0 | Q32: Yhteensä koko elinkaari, kgCO2e/m2/a (A1-A5 + B4 + B6 + C1-C4) | R32: =R18+R25+R31 -> 0 | V32: Yhteensä koko elinkaari, kgCO2e/m2/a (A1-A5 + B4 + B6 + C1-C4) | W32: =W18+W25+W31 -> 0 | AA32: Yhteensä koko elinkaari, kgCO2e/m2/a (A1-A5 + B4 + B6 + C1-C4) | AB32: =AB18+AB25+AB31 -> 0
B34: Yhteensä koko elinkaari, kgCO2e/m2 (A1-A5 + B4 + B6 + C1-C4) | C34: =C32*50 -> 0 | G34: Yhteensä koko elinkaari, kgCO2e/m2 (A1-A5 + B4 + B6 + C1-C4) | H34: =H32*50 -> 0 | L34: Yhteensä koko elinkaari, kgCO2e/m2 (A1-A5 + B4 + B6 + C1-C4) | M34: =M32*50 -> 0 | Q34: Yhteensä koko elinkaari, kgCO2e/m2 (A1-A5 + B4 + B6 + C1-C4) | R34: =R32*50 -> 0 | V34: Yhteensä koko elinkaari, kgCO2e/m2 (A1-A5 + B4 + B6 + C1-C4) | W34: =W32*50 -> 0 | AA34: Yhteensä koko elinkaari, kgCO2e/m2 (A1-A5 + B4 + B6 + C1-C4) | AB34: =AB32*50 -> 0
B35: *) Eloperäisen hiilen negatiivinen luku tulee ilmoittaa summattuna taulukkoon 4 vaiheiden A1-A3 ja B4 osalta, kun puun korjuulla ei ole pysyvästi heikennetty ekosysteemin hiilinielua. **) Omalle rivilleen elinkaaren lopussa vapautuva eloperäinen hiili. | G35: *) Eloperäisen hiilen negatiivinen luku tulee ilmoittaa summattuna taulukkoon 6 vaiheiden A1-A3 ja B4 osalta, kun puun korjuulla ei ole pysyvästi heikennetty ekosysteemin hiilinielua. **) Omalle rivilleen elinkaaren lopussa vapautuva eloperäinen hiili. | L35: *) Eloperäisen hiilen negatiivinen luku tulee ilmoittaa summattuna taulukkoon 8 vaiheiden A1-A3 ja B4 osalta, kun puun korjuulla ei ole pysyvästi heikennetty ekosysteemin hiilinielua. **) Omalle rivilleen elinkaaren lopussa vapautuva eloperäinen hiili. | Q35: *) Eloperäisen hiilen negatiivinen luku tulee ilmoittaa summattuna taulukkoon 10 vaiheiden A1-A3 ja B4 osalta, kun puun korjuulla ei ole pysyvästi heikennetty ekosysteemin hiilinielua. **) Omalle rivilleen elinkaaren lopussa vapautuva eloperäinen hiili. | V35: *) Eloperäisen hiilen negatiivinen luku tulee ilmoittaa summattuna taulukkoon 12 vaiheiden A1-A3 ja B4 osalta, kun puun korjuulla ei ole pysyvästi heikennetty ekosysteemin hiilinielua. **) Omalle rivilleen elinkaaren lopussa vapautuva eloperäinen hiili. | AA35: *) Eloperäisen hiilen negatiivinen luku tulee ilmoittaa summattuna taulukkoon 14 vaiheiden A1-A3 ja B4 osalta, kun puun korjuulla ei ole pysyvästi heikennetty ekosysteemin hiilinielua. **) Omalle rivilleen elinkaaren lopussa vapautuva eloperäinen hiili.
B37: Hiilikädenjälki | G37: Hiilikädenjälki | L37: Hiilikädenjälki | Q37: Hiilikädenjälki | V37: Hiilikädenjälki | AA37: Hiilikädenjälki
B38: Elinkaaren vaihe | C38: Rakennus | G38: Elinkaaren vaihe | H38: Rakennus | L38: Elinkaaren vaihe | M38: Rakennus | Q38: Elinkaaren vaihe | R38: Rakennus | V38: Elinkaaren vaihe | W38: Rakennus | AA38: Elinkaaren vaihe | AB38: Rakennus
C39: kgCO2e/m2/a | H39: kgCO2e/m2/a | M39: kgCO2e/m2/a | R39: kgCO2e/m2/a | W39: kgCO2e/m2/a | AB39: kgCO2e/m2/a
B40: Uudelleenkäyttö | C40: 0 | G40: Uudelleenkäyttö | H40: 0 | L40: Uudelleenkäyttö | M40: 0 | Q40: Uudelleenkäyttö | R40: 0 | V40: Uudelleenkäyttö | W40: 0 | AA40: Uudelleenkäyttö | AB40: 0
B41: Kierrätys | C41: 0 | G41: Kierrätys | H41: 0 | L41: Kierrätys | M41: 0 | Q41: Kierrätys | R41: 0 | V41: Kierrätys | W41: 0 | AA41: Kierrätys | AB41: 0
B42: Ylimääräinen uusiutuva energia | C42: 0 | G42: Ylimääräinen uusiutuva energia | H42: 0 | L42: Ylimääräinen uusiutuva energia | M42: 0 | Q42: Ylimääräinen uusiutuva energia | R42: 0 | V42: Ylimääräinen uusiutuva energia | W42: 0 | AA42: Ylimääräinen uusiutuva energia | AB42: 0
B43: Tuotteiden hiilivarastovaikutus | C43: 0 | G43: Tuotteiden hiilivarastovaikutus | H43: 0 | L43: Tuotteiden hiilivarastovaikutus | M43: 0 | Q43: Tuotteiden hiilivarastovaikutus | R43: 0 | V43: Tuotteiden hiilivarastovaikutus | W43: 0 | AA43: Tuotteiden hiilivarastovaikutus | AB43: 0
B44: Karbonatisoituminen | C44: 0 | G44: Karbonatisoituminen | H44: 0 | L44: Karbonatisoituminen | M44: 0 | Q44: Karbonatisoituminen | R44: 0 | V44: Karbonatisoituminen | W44: 0 | AA44: Karbonatisoituminen | AB44: 0
B48: Taulukko 5. Elinkaaren vaihe A1-A3 ja B4 Talo2000-luokittelun mukaisesti (rakennukset + rakennuspaikka) | G48: Taulukko 7. Elinkaaren vaihe A1-A3 ja B4 Talo2000-luokittelun mukaisesti (rakennukset + rakennuspaikka) | L48: Taulukko 9. Elinkaaren vaihe A1-A3 ja B4 Talo2000-luokittelun mukaisesti (rakennukset + rakennuspaikka) | Q48: Taulukko 11. Elinkaaren vaihe A1-A3 ja B4 Talo2000-luokittelun mukaisesti (rakennukset + rakennuspaikka) | V48: Taulukko 13. Elinkaaren vaihe A1-A3 ja B4 Talo2000-luokittelun mukaisesti (rakennukset + rakennuspaikka) | AA48: Taulukko 15. Elinkaaren vaihe A1-A3 ja B4 Talo2000-luokittelun mukaisesti (rakennukset + rakennuspaikka)
B49: Käyttötarkoitus 1/ Vähähiilisyysvertailu/ Hankevaiheen vertailu | C49: Rakenteen/osan/järjestelmän kuvaus 3 Seuraavista materiaalipaksuudet: AP, YP, VP, US | D49: A1-A3 kgCO2e/m2,a 4 | E49: B4 kgCO2e/m2,a 4 | G49: Käyttötarkoitus 1/ Vähähiilisyysvertailu/ Hankevaiheen vertailu | H49: Rakenteen/osan/järjestelmän kuvaus 3 Seuraavista materiaalipaksuudet: AP, YP, VP, US | I49: A1-A3 kgCO2e/m2,a 4 | J49: B4 kgCO2e/m2,a 4 | L49: Käyttötarkoitus 1/ Vähähiilisyysvertailu/ Hankevaiheen vertailu | M49: Rakenteen/osan/järjestelmän kuvaus 3 Seuraavista materiaalipaksuudet: AP, YP, VP, US | N49: A1-A3 kgCO2e/m2,a 4 | O49: B4 kgCO2e/m2,a 4 | Q49: Käyttötarkoitus 1/ Vähähiilisyysvertailu/ Hankevaiheen vertailu | R49: Rakenteen/osan/järjestelmän kuvaus 3 Seuraavista materiaalipaksuudet: AP, YP, VP, US | S49: A1-A3 kgCO2e/m2,a 4 | T49: B4 kgCO2e/m2,a 4 | V49: Käyttötarkoitus 1/ Vähähiilisyysvertailu/ Hankevaiheen vertailu | W49: Rakenteen/osan/järjestelmän kuvaus 3 Seuraavista materiaalipaksuudet: AP, YP, VP, US | X49: A1-A3 kgCO2e/m2,a 4 | Y49: B4 kgCO2e/m2,a 4 | AA49: Käyttötarkoitus 1/ Vähähiilisyysvertailu/ Hankevaiheen vertailu | AB49: Rakenteen/osan/järjestelmän kuvaus 3 Seuraavista materiaalipaksuudet: AP, YP, VP, US | AC49: A1-A3 kgCO2e/m2,a 4 | AD49: B4 kgCO2e/m2,a 4
B50: ALUEOSAT | G50: ALUEOSAT | L50: ALUEOSAT | Q50: ALUEOSAT | V50: ALUEOSAT | AA50: ALUEOSAT
B51: 1.1.1 Maaosat | G51: 1.1.1 Maaosat | L51: 1.1.1 Maaosat | Q51: 1.1.1 Maaosat | V51: 1.1.1 Maaosat | AA51: 1.1.1 Maaosat
B52: 1.1.2 Tuennat ja vahvistukset | G52: 1.1.2 Tuennat ja vahvistukset | L52: 1.1.2 Tuennat ja vahvistukset | Q52: 1.1.2 Tuennat ja vahvistukset | V52: 1.1.2 Tuennat ja vahvistukset | AA52: 1.1.2 Tuennat ja vahvistukset
B53: 1.1.3 Tontin päällysteet | G53: 1.1.3 Tontin päällysteet | L53: 1.1.3 Tontin päällysteet | Q53: 1.1.3 Tontin päällysteet | V53: 1.1.3 Tontin päällysteet | AA53: 1.1.3 Tontin päällysteet
B54: 1.1.5 Alueen rakenteet | G54: 1.1.5 Alueen rakenteet | L54: 1.1.5 Alueen rakenteet | Q54: 1.1.5 Alueen rakenteet | V54: 1.1.5 Alueen rakenteet | AA54: 1.1.5 Alueen rakenteet
B55: RAKENNUSOSAT | G55: RAKENNUSOSAT | L55: RAKENNUSOSAT | Q55: RAKENNUSOSAT | V55: RAKENNUSOSAT | AA55: RAKENNUSOSAT
B56: 1.2.1 Perustukset | G56: 1.2.1 Perustukset | L56: 1.2.1 Perustukset | Q56: 1.2.1 Perustukset | V56: 1.2.1 Perustukset | AA56: 1.2.1 Perustukset
B57: 1.2.2 Alapohjat | G57: 1.2.2 Alapohjat | L57: 1.2.2 Alapohjat | Q57: 1.2.2 Alapohjat | V57: 1.2.2 Alapohjat | AA57: 1.2.2 Alapohjat
B58: 1.2.3.1 Runko: Väestönsuojat | G58: 1.2.3.1 Runko: Väestönsuojat | L58: 1.2.3.1 Runko: Väestönsuojat | Q58: 1.2.3.1 Runko: Väestönsuojat | V58: 1.2.3.1 Runko: Väestönsuojat | AA58: 1.2.3.1 Runko: Väestönsuojat
B59: 1.2.3.2 Runko: Kantavat seinät | G59: 1.2.3.2 Runko: Kantavat seinät | L59: 1.2.3.2 Runko: Kantavat seinät | Q59: 1.2.3.2 Runko: Kantavat seinät | V59: 1.2.3.2 Runko: Kantavat seinät | AA59: 1.2.3.2 Runko: Kantavat seinät
B60: 1.2.3.3 Runko: Pilarit | G60: 1.2.3.3 Runko: Pilarit | L60: 1.2.3.3 Runko: Pilarit | Q60: 1.2.3.3 Runko: Pilarit | V60: 1.2.3.3 Runko: Pilarit | AA60: 1.2.3.3 Runko: Pilarit
B61: 1.2.3.4 Runko: Palkit | G61: 1.2.3.4 Runko: Palkit | L61: 1.2.3.4 Runko: Palkit | Q61: 1.2.3.4 Runko: Palkit | V61: 1.2.3.4 Runko: Palkit | AA61: 1.2.3.4 Runko: Palkit
... B86: Sähkön tuotantojärjestelmät ja -laitteistot10 | G86: Sähkön tuotantojärjestelmät ja -laitteistot10 | L86: Sähkön tuotantojärjestelmät ja -laitteistot10 | Q86: Sähkön tuotantojärjestelmät ja -laitteistot10 | V86: Sähkön tuotantojärjestelmät ja -laitteistot10 | AA86: Sähkön tuotantojärjestelmät ja -laitteistot10
B87: ='Tulokset hiilijalanjälki'!B75 -> 1) Jos rakennukseen tai rakennuspaikkaan kuuluu kyseinen osa, se tulee sisällyttää laskentaan. Jos suunnittelutietoja ei ole, tulee käyttää referenssitietoja.
B88: ='Tulokset hiilijalanjälki'!B76 -> 2) Kuvaa, mihin määrä- ja materiaalitiedot perustuvat, esim. ARK-tietomalli (pvm), RAK-suunnitelmat (pvm), määräluettelo (pvm), Carbon Designer, jne.
B89: ='Tulokset hiilijalanjälki'!B77 -> 3) Kuvaa jokaisen rakennusosan pääasiallinen rakennetyyppi tai -tyypit. Ilmoita rakenteiden eri materiaalien paksuudet AP, YP, VP ja US osalta. Esimerkiksi YP: Tasausbetoni 40 mm, suodatinkangas, kevytsora 680-830 mm, solupolystreeni 100 mm, kumibitumikermi, ontelolaatta 320 mm
B90: 4) Eloperänen hiili tuotteissa: eloperäisen hiilen negatiivinen luku tulee ilmoittaa summattuna taulukkoon 1 vaiheiden A1-A3 ja B4 osalta, joten eloperäisen hiilen negatiivista lukua ei tule huomioida rakennusosakohtaisesti taulukoissa 5, 7, 9, 11, 13 ja 15. Katso ohje sivulta Lähtötiedot 1.
B91: ='Tulokset hiilijalanjälki'!B79 -> 5) Kansallisen päästötietokannan rakennustyyppikohtainen neliöpohjainen arvo. Talotekniikan voi laskea myös tarkemmin kohdekohtaisesti, tai osan järjestelmistä voi laskea kohdekohtaisesti ja osan taulukkoarvoilla. Jos laskenta on tehty tarkemmin kohdekohtaisesti, kirjaa tulokset järjestelmittäin. Kansallisen päästötietokannan neliöpohjaisista kertoimista puuttuvat järjestelmät tulee lisätä järjestelmittäin kohtien 6-10 mukaisesti.
B92: ='Tulokset hiilijalanjälki'!B80 -> 6) Sähkö-, käyttövesi-, viemäri-, ilmanvaihto-, jäähdytys- ja lämmitysjärjestelmät: kansallisen päästötietokannan neliöpohjainen järjestelmäkohtainen arvo tai tuotekohtaisesti laskettu päästötieto.
B93: ='Tulokset hiilijalanjälki'!B81 -> 7) Päästötietokannan neliöpohjaista arvoa käytettäessä, lisää lämmitys- ja lämmöntuottojärjestelmän osat, jotka eivät ole mukana päästötietokannan rakennustyyppikohtaisessa neliöpohjaisessa arvossa. Tulee tarkastaa päästötietokannan taustaraportista.
B94: ='Tulokset hiilijalanjälki'!B82 -> 8) Lisää mahdolliset sprinkleri- ja/tai jäähdytysjärjestelmät, jotka eivät ole mukana päästötietokannan rakennustyyppikohtaisessa neliöpohjaisessa arvossa. Tulee tarkastaa päästötietokannan taustaraportista.
B95: ='Tulokset hiilijalanjälki'!B83 -> 9) Siirto-osat, jotka eivät ole mukana päästötietokannan rakennustyyppikohtaisessa neliöpohjaisessa arvossa. Tulee tarkastaa päästötietokannan taustaraportista.
B96: ='Tulokset hiilijalanjälki'!B84 -> 10) Aurinkoenergiajärjestelmä tai muut vastaavat, jotka eivät kuulu päästötietokannan rakennustyyppikohtaiseen neliöpohjaiseen arvoon. Tulee tarkastaa päästötietokannan taustaraportista.

Sheet Versiohallinta
B3: Versio | C3: Muutokset edelliseen versioon
B4: 45237 | C4: Raportointipohja julkaistu
B5: 45267 | C5: Tarkennettu vaadittuja lähtötietoja välilehdellä Lähtötiedot 1.
B6: x.x.2024 | C6: Lisätty huomiot, jos annettu tieto virheellinen
B7: 46301 | C7: Muokattu ilmastoasetuksen raportointivaatimusten mukaiseksi Lisätty Ohjeet-välilehti sekä Lähtötiedot monta käyttötarkoitusta ja Tulokset monta käyttötarkoitusta -välilehdet.

Sheet Alasvetovalikot
B1: Käyttötarkoitusluokka | D1: Perustamistapa | F1: Runko | H1: Ulkoseinät | J1: Yläpohja | M1: Välipohja | P1: Nyrkkisääntöjä
B2: Valitse | D2: Valitse | F2: Valitse | H2: Valitse | J2: Valitse | M2: Valitse | P2: Asuinkerrostalo
B3: Rivitalo tai asuinkerrostalo, jossa on asuinkerroksia enintään kahdessa kerroksessa | D3: Paaluperustus (teräspaalut) | F3: Betoni: pilari-palkki-runko | H3: SW-elementti + tiililaatta | J3: Ontelolaatta + puhallusvilla | M3: Ontelolaatta | P3: A1-A3:
B4: Asuinkerrostalo | D4: Paaluperustus (teräsbetonipaalut) | F4: Betoni: kantavat ulko- ja väliseinät | H4: SW-elementti + betonipinta | J4: Ontelolaatta + levyeriste | M4: Massiivilaatta
B5: Toimistorakennus | D5: Paaluperustus (teräs- ja teräsbetonipaalut) | F5: Teräsrunko | H5: SW-elementti + puuverhoilu | J5: Ontelolaatta + levyeriste + kevytsora | M5: Liittolaatta
B6: Terveyskeskus | D6: Maanvarainen perustus | F6: Puu: CLT | H6: SW-elementti + peltikasetti | J6: Massiivilaatta + puhallusvilla | M6: CLT
B7: Liikerakennus, tavaratalo, kauppakeskus, myymälärakennus lukuun ottamatta päivittäistavarakaupan alle 2000 m2 yksikköä tai myymälähalli | D7: Muu | F7: Puu: rankarunko | H7: Julkisivulevy | J7: Massiivilaatta + levyeriste | M7: Puurankarakenteinen
B8: Teatteri, ooppera-,konsertti- ja kongressitalo tai elokuvateatteri | F8: Puu: hirsi | H8: Julkisivulevy + rappaus | J8: Massiivilaatta + levyeriste + kevytsora | M8: Muu
B9: Kirjasto, arkisto, museo, taidegalleria tai näyttelyhalli | F9: Hybridi: CLT+betoni | H9: Lämpörappaus | J9: CLT-yläpohja + eriste
B10: Majoitusliikerakennus tai hotelli | F10: Hybridi: Ranka+betoni | H10: Tiilimuuraus | J10: Kattoristikkorakenne (puu)
B11: Asuntola, palvelutalo, vanhainkoti tai hoitolaitos | F11: Hybridi: CLT+teräs | H11: Puuverhous | J11: Kattoristikkorakenne (teräs)
B12: Opetusrakennus | F12: Muu | H12: Peltikasetti | J12: TT-laatta
B13: Päiväkoti | H13: Muu | J13: Muu
B14: Liikuntahalli
B15: Jää- tai uimahalli | F15: Ontelolaatta
B16: Sairaala | F16: Vähähiilinen ontelolaatta
B22: Energiantuotantomuodot - lämpö | D22: Määrätiedot - lähtötiedot | F22: Valmistumisvuosi | H22: Vesikatto | J22: Alapohja
B23: Valitse | D23: Valitse | F23: Valitse | H23: Valitse | J23: Valitse
B24: Kaukolämpö | D24: Tietomallit | F24: 2024 | H24: Pelti | J24: Ontelolaatta, tuulettuva
B25: Maalämpö | D25: Määräluettelo | F25: 2025 | H25: Bitumikermi | J25: Massiivilaatta, tuulettuva
B26: Vesi-ilmalämpöpumppu | D26: ARK- ja RAK-suunnittelmat | F26: 2026 | H26: Tiili | J26: Maanvarainen laatta
B27: Muu lämpöpumppujärjestelmä | D27: OCLCA Carbon Designer tai vastaava | F27: 2027 | H27: Viherkatto | J27: Maata vasten valettu kantava laatta
B28: Jokin muu | D28: Jokin muu | F28: 2028 | H28: Muu | J28: Puurakenteinen, tuulettuva
D29: Tietomallit ja ARK- ja RAK-suunnitelmat | F29: 2029 | J29: Muu
F30: 2030
F31: 2031
F32: 2032
B33: Energiantuotantomuodot - jäähdytys | D33: Kerroslukumäärä - maanpäälliset | F33: 2033
B34: Valitse | D34: Valitse | F34: 2034
B35: Ei jäähdytystä/viilennystä | D35: 1 | F35: 2035
B36: Kaukojäähdytys | D36: 2
B37: Vedenjäähdytyskone | D37: 3
B38: Lämpöpumppujärjestelmä | D38: 4
B39: Vapaajäähdytys kaivokentästä (viilennys) | D39: 5
B40: Jokin muu | D40: 6
D41: 7
D42: 8
B43: Energiantuotantomuodot - sähkö | D43: 9
B44: Valitse | D44: 10
B45: Verkkosähkö | D45: 11
B46: Verkkosähkö + oma aurinkosähköjärjestelmä | D46: 12
B47: Jokin muu | D47: 13
D48: 14
D49: 15
D50: 16
B51: Määrätiedot - tarkempi | D51: 17
B52: RAK-tietomalli | D52: 18
B53: ARK-tietomalli | D53: 19
B54: TATE-tietomallit | D54: 20
B55: Rakennustapaselostus | D55: 21
B56: Pihasuunnitelma | D56: 22
D57: 23
D58: 24
D59: 25
D60: 26
B61: Hankevaihe | D61: 27
B62: Valitse | D62: 28
B63: Suunnittelu- tai toteutuskilpailu | D63: 29
B64: Tontinluovutus | D64: 30
B65: Tarveselvitys | D65: yli 30
B66: Hankesuunnittelu
B67: Yleissuunnittelu
B68: Rakennuslupa | D68: Kerroslukumäärä maanalaiset
B69: Toteutussuunnittelu | D69: Valitse
B70: Rakentaminen | D70: 0
B71: Vastaanotto | D71: 1
D72: 2
D73: 3
D74: 4
D75: 5

Sheet db_hiilijalanjalki_raportit
A1: HANKKEEN_NIMI | B1: HANKKEEN_OSOITE | C1: HANKENRO_TAI_MUU_PRJTUNNUS | D1: VTJ_PRT | E1: HANKETYYPPI | F1: VAIHE | G1: KAYTETTY_OHJELMA | H1: LASKELMA_PVM | I1: LASKELMAN_LAATIJA | J1: MAARATIETOJEN_PERUSTA | K1: YMPARISTOSELOSTE_K_E | L1: RT_KORTTI_VAI_SYKE_PTK | M1: POIKK_KAYTTOIKATIETO_K_E | N1: KAYTTOTARKOITUS | O1: MUUT_KAYTTARK_K_E | P1: MUUT_KAYTTARK | Q1: MUUT_KAYTTARK_LASK_K_E | R1: RAK_VALM_VUOSI | S1: KRS_LKM_MP | T1: KRS_LKM_MA | U1: TONTIN_MUUT_RAK_KUVAUS | V1: LAMMITETTY_ALA | W1: HUONEISTOALA | X1: BRUTTOALA | Y1: VAIPAN_KOKONAISALA | Z1: IKKUN_LASI_ALA | AA1: ULKOSEINA_PER_BRUTTOALA | AB1: VAESTONSUOJA_K_E | AC1: TONTIN_STABILOINTI_K_E | AD1: AUTOHALLI_HUOMIOITU | AE1: PERUSTAMISTAPA | AF1: RUNKO | AG1: JULKISIVUT | AH1: VESIKATTO | AI1: YLAPOHJA | AJ1: ALAPOHJA | AK1: VALIPOHJA | AL1: ENERG_TUOT_LAMPO | AM1: E_TUOT_JAAHDYTYS | AN1: E_TUOT_SAHKO | AO1: E_LUKULASKENTAOHJELMA | AP1: E_LUKU | AQ1: OSTO_E_KAUKOLAMPO | AR1: OSTO_E_KAUKOJAAHDYTYS | AS1: OSTO_E_SAHKO | AT1: E_PAASTOKER_50_V_KAUKOLAMPO | AU1: E_PAASTOKER_50_V_KAUKOJAAHDYTYS | AV1: E_PAASTOKER_50_V_SAHKO | AW1: R_A1_A3_TUOTTEIDEN_VALMISTUS | AX1: R_A1_A3_ELOPERAINEN_HIILI | AY1: R_A4_KULJETUKSET_TYOMAALLE | AZ1: R_A5_TYOMAATOIMINNOT | BA1: R_YHTEENSA_A1_A5 | BB1: R_B4_RAKENNUSTUOTTEIDEN_VAIHDOT | BC1: R_B6_ENERGIAN_KAYTTO | BD1: R_YHTEENSA_B4_B6 | BE1: R_C1_PURKUTYOT | BF1: R_C2_KULJETUKSET_KASITTELYYN | BG1: R_C3_C4_JATTEENKAS_JA_LOPPUSIJ | BH1: R_C3_ELOPERAINEN_HIILI | BI1: R_YHTEENSA_C1_C4 | BJ1: R_ELINKAARI_YHTEENSA | BK1: R_PARKKIHALLIN_HIILIJJ | BL1: RP_A1_A3_TUOTTEIDEN_VALMISTUS | BM1: RP_A1_A3_ELOPERAINEN_HIILI | BN1: RP_A4_KULJETUKSET_TYOMAALLE | BO1: RP_A5_TYOMAATOIMINNOT | BP1: RP_YHTEENSA_A1_A5 | BQ1: RP_B4_RAKENNUSTUOTTEIDEN_VAIHDOT | BR1: RP_B6_ENERGIAN_KAYTTO | BS1: RP_YHTEENSA_B4_B6 | BT1: RP_C1_PURKUTYOT | BU1: RP_C2_KULJETUKSET_KASITTELYYN | BV1: RP_C3_C4_JATTEENKAS_JA_LOPPUSIJ | BW1: RP_C3_ELOPERAINEN_HIILI | BX1: RP_YHTEENSA_C1_C4 | BY1: RP_ELINKAARI_YHTEENSA | BZ1: MAAOSAT_A1_A3 | CA1: MAAOSAT_B4 | CB1: TUENNAT_JA_VAHV_A1_A3 | CC1: TUENNAT_JA_VAHV_B4 | CD1: TONTIN_PAALL_A1_A3 | CE1: TONTIN_PAALL_B4 | CF1: ALUEEN_RAKENTEET_A1_A3 | CG1: ALUEEN_RAKENTEET_B4 | CH1: ALUEOSAT_KUVAUS | CI1: PERUSTUKSET_A1_A3 | CJ1: PERUSTUKSET_B4 | CK1: ALAPOHJAT_A1_A3 | CL1: ALAPOHJAT_B4 | CM1: PERUSTUKSET_JA_ALAPOHJA_KUVAUS | CN1: RUNKO_VAESTONSUOJAT_A1_A3 | CO1: RUNKO_VAESTONSUOJAT_B4 | CP1: RUNKO_KANTAVAT_SEINAT_A1_A3 | CQ1: RUNKO_KANTAVAT_SEINAT_B4 | CR1: RUNKO_PILARIT_A1_A3 | CS1: RUNKO_PILARIT_B4 | CT1: RUNKO_PALKIT_A1_A3 | CU1: RUNKO_PALKIT_B4 | CV1: RUNKO_VALIPOHJAT_A1_A3 | CW1: RUNKO_VALIPOHJAT_B4 | CX1: RUNKO_YLAPOHJAT_A1_A3 | CY1: RUNKO_YLAPOHJAT_B4 | CZ1: RUNKO_RUNKOPORTAAT_A1_A3 | DA1: RUNKO_RUNKOPORTAAT_B4 | DB1: RUNKORAKENTEET_KUVAUS | DC1: JULKISIVU_ULKOSEINAT_A1_A3 | DD1: JULKISIVU_ULKOSEINAT_B4 | DE1: JULKISIVU_IKKUNAT_A1_A3 | DF1: JULKISIVU_IKKUNAT_B4 | DG1: JULKISIVU_ULKO_OVET_A1_A3 | DH1: JULKISIVU_ULKO_OVET_B4 | DI1: ULKOTASOT_JA_PARVEKKEET_A1_A3 | DJ1: ULKOTASOT_JA_PARVEKKEET_B4 | DK1: JULKISIVUT_JA_ULKOTASOT_KUVAUS | DL1: KATTORAKENTEET_A1_A3 | DM1: KATTORAKENTEET_B4 | DN1: VESIKATOT_KUVAUS | DO1: TILAN_JATKO_OSAT_A1_A3 | DP1: TILAN_JATKO_OSAT_B4 | DQ1: TILAPINNAT_A1_A3 | DR1: TILAPINNAT_B4 | DS1: TILAVARUSTEET_A1_A3 | DT1: TILAVARUSTEET_B4 | DU1: HORMIT_JA_TULISIJAT_A1_A3 | DV1: HORMIT_JA_TULISIJAT_B4 | DW1: TILAELEMENTIT_A1_A3 | DX1: TILAELEMENTIT_B4 | DY1: TILAOSAT_KUVAUS | DZ1: TALOTEKNIIKKA_A1_A3 | EA1: TALOTEKNIIKKA_B4 | EB1: LAMMITYSJARJESTELMAT_A1_A3 | EC1: LAMMITYSJARJESTELMAT_B4 | ED1: JAAHDYTYSJARJESTELMA_A1_A3 | EE1: JAAHDYTYSJARJESTELMA_B4 | EF1: PALONTORJUNTAJARJESTELMA_A1_A3 | EG1: PALONTORJUNTAJARJESTELMA_B4 | EH1: SIIRTO_OSAT_A1_A3 | EI1: SIIRTO_OSAT_B4 | EJ1: SAHKON_TUOT_JARJ_JA_LAIT_A1_A3 | EK1: SAHKON_TUOT_JARJ_JA_LAIT_B4 | EL1: TALOTEKNIIKKA_KUVAUS | EM1: R_UUDELLEENKAYTTO_JA_MATER_KIER | EN1: R_HYODYNTAMINEN_ENERGIANA | EO1: R_YLIMAARAINEN_UUSIUTUVA_ENERGIA | EP1: R_TUOTTEIDEN_HIILIVARASTOVAIKUTUS | EQ1: R_KARBONATISOITUMINEN | ER1: RP_UUDELLEENKAYTTO_JA_MATER_KIER | ES1: RP_HYODYNTAMINEN_ENERGIANA | ET1: RP_YLIMAARAINEN_UUSIUTUVA_ENERGIA | EU1: RP_TUOTTEIDEN_HIILIVARASTOVAIKUTUS | EV1: RP_KARBONATISOITUMINEN
A2: {=INDIRECT("'Lähtötiedot 1'!D7")} -> 0 | B2: {=INDIRECT("'Lähtötiedot 1'!D8")} -> 0 | C2: {=INDIRECT("'Lähtötiedot 1'!D9")} -> 0 | D2: {=INDIRECT("'Lähtötiedot 1'!D10")} -> 0 | E2: {=INDIRECT("'Lähtötiedot 1'!D11")} -> Valitse | F2: {=INDIRECT("'Lähtötiedot 1'!D12")} -> Valitse | G2: {=INDIRECT("'Lähtötiedot 1'!D13")} -> 0 | H2: {=INDIRECT("'Lähtötiedot 1'!D14")} -> 0 | I2: {=INDIRECT("'Lähtötiedot 1'!D15")} -> 0 | J2: {=INDIRECT("'Lähtötiedot 1'!D16")} -> 0 | K2: {=INDIRECT("'Lähtötiedot 1'!D17")} -> Valitse | L2: {=INDIRECT("'Lähtötiedot 1'!D18")} -> Valitse | M2: {=INDIRECT("'Lähtötiedot 1'!D19")} -> 0 | N2: {=INDIRECT("'Lähtötiedot 1'!D22")} -> 0 | O2: {=INDIRECT("'Lähtötiedot 1'!D23")} -> Valitse | P2: {=INDIRECT("'Lähtötiedot 1'!D24")} -> Valitse | Q2: {=INDIRECT("'Lähtötiedot 1'!D25")} -> 0 | R2: {=INDIRECT("'Lähtötiedot 1'!D26")} -> Valitse | S2: {=INDIRECT("'Lähtötiedot 1'!D27")} -> 0 | T2: {=INDIRECT("'Lähtötiedot 1'!D28")} -> 0 | U2: {=INDIRECT("'Lähtötiedot 1'!D29")} -> Valitse | V2: {=INDIRECT("'Lähtötiedot 1'!D30")} -> Valitse | W2: {=INDIRECT("'Lähtötiedot 1'!D31")} -> Valitse | X2: {=INDIRECT("'Lähtötiedot 1'!D32")} -> 0 | Y2: {=INDIRECT("'Lähtötiedot 1'!D33")} -> 0 | Z2: {=INDIRECT("'Lähtötiedot 1'!D34")} -> 0 | AA2: {=INDIRECT("'Lähtötiedot 1'!D35")} -> 0 | AB2: {=INDIRECT("'Lähtötiedot 1'!D36")} -> 0 | AC2: {=INDIRECT("'Lähtötiedot 1'!D37")} -> 0 | AD2: {=INDIRECT("'Lähtötiedot 1'!D38")} -> 0 | AE2: {=INDIRECT("'Lähtötiedot 1'!D41")} -> Valitse | AF2: {=INDIRECT("'Lähtötiedot 1'!D42")} -> Valitse | AG2: {=INDIRECT("'Lähtötiedot 1'!D43")} -> 0 | AH2: {=INDIRECT("'Lähtötiedot 1'!D44")} -> 0 | AI2: {=INDIRECT("'Lähtötiedot 1'!D45")} -> Valitse | AJ2: {=INDIRECT("'Lähtötiedot 1'!D46")} -> Valitse | AK2: {=INDIRECT("'Lähtötiedot 1'!D47")} -> Valitse | AL2: {=INDIRECT("'Lähtötiedot 1'!D50")} -> Valitse | AM2: {=INDIRECT("'Lähtötiedot 1'!D51")} -> Valitse | AN2: {=INDIRECT("'Lähtötiedot 1'!D52")} -> 0 | AO2: {=INDIRECT("'Lähtötiedot 1'!D53")} -> 0 | AP2: {=INDIRECT("'Lähtötiedot 1'!D54")} -> Valitse | AQ2: {=INDIRECT("'Lähtötiedot 1'!D55")} -> Valitse | AR2: {=INDIRECT("'Lähtötiedot 1'!D56")} -> Valitse | AS2: {=INDIRECT("'Lähtötiedot 1'!D57")} -> 0 | AT2: {=INDIRECT("'Lähtötiedot 1'!D58")} -> 0 | AU2: {=INDIRECT("'Lähtötiedot 1'!D59")} -> 0 | AV2: {=INDIRECT("'Lähtötiedot 1'!D60")} -> 0 | AW2: {=INDIRECT("'Tulokset hiilijalanjälki'!C9")} -> 0 | AX2: {=INDIRECT("'Tulokset hiilijalanjälki'!C10")} -> 0 | AY2: {=INDIRECT("'Tulokset hiilijalanjälki'!C11")} -> 0 | AZ2: {=INDIRECT("'Tulokset hiilijalanjälki'!C12")} -> 0 | BA2: {=INDIRECT("'Tulokset hiilijalanjälki'!C13")} -> 0 | BB2: {=INDIRECT("'Tulokset hiilijalanjälki'!C14")} -> 0 | BC2: {=INDIRECT("'Tulokset hiilijalanjälki'!C15")} -> 0 | BD2: {=INDIRECT("'Tulokset hiilijalanjälki'!C16")} -> 0 | BE2: {=INDIRECT("'Tulokset hiilijalanjälki'!C17")} -> 0 | BF2: {=INDIRECT("'Tulokset hiilijalanjälki'!C18")} -> 0 | BG2: {=INDIRECT("'Tulokset hiilijalanjälki'!C19")} -> 0 | BH2: {=INDIRECT("'Tulokset hiilijalanjälki'!C20")} -> 0 | BI2: {=INDIRECT("'Tulokset hiilijalanjälki'!C21")} -> 0 | BJ2: {=INDIRECT("'Tulokset hiilijalanjälki'!C22")} -> 0 | BK2: {=INDIRECT("'Tulokset hiilijalanjälki'!C26")} -> 0 | BL2: {=INDIRECT("'Tulokset hiilijalanjälki'!D9")} -> 0 | BM2: {=INDIRECT("'Tulokset hiilijalanjälki'!D10")} -> 0 | BN2: {=INDIRECT("'Tulokset hiilijalanjälki'!D11")} -> 0 | BO2: {=INDIRECT("'Tulokset hiilijalanjälki'!D12")} -> 0 | BP2: {=INDIRECT("'Tulokset hiilijalanjälki'!D13")} -> 0 | BQ2: {=INDIRECT("'Tulokset hiilijalanjälki'!D14")} -> 0 | BR2: {=INDIRECT("'Tulokset hiilijalanjälki'!D15")} -> 0 | BS2: {=INDIRECT("'Tulokset hiilijalanjälki'!D16")} -> 0 | BT2: {=INDIRECT("'Tulokset hiilijalanjälki'!D17")} -> 0 | BU2: {=INDIRECT("'Tulokset hiilijalanjälki'!D18")} -> 0 | BV2: {=INDIRECT("'Tulokset hiilijalanjälki'!D19")} -> 0 | BW2: {=INDIRECT("'Tulokset hiilijalanjälki'!D20")} -> 0 | BX2: {=INDIRECT("'Tulokset hiilijalanjälki'!D21")} -> 0 | BY2: {=INDIRECT("'Tulokset hiilijalanjälki'!D22")} -> 0 | BZ2: {=INDIRECT("'Tulokset hiilijalanjälki'!G32")} -> 0 | CA2: {=INDIRECT("'Tulokset hiilijalanjälki'!H32")} -> 0 | CB2: {=INDIRECT("'Tulokset hiilijalanjälki'!G33")} -> 0 | CC2: {=INDIRECT("'Tulokset hiilijalanjälki'!H33")} -> 0 | CD2: {=INDIRECT("'Tulokset hiilijalanjälki'!G34")} -> 0 | CE2: {=INDIRECT("'Tulokset hiilijalanjälki'!H34")} -> 0 | CF2: {=INDIRECT("'Tulokset hiilijalanjälki'!G35")} -> 0 | CG2: {=INDIRECT("'Tulokset hiilijalanjälki'!H35")} -> 0 | CH2: {=INDIRECT("'Tulokset hiilijalanjälki'!J32")} -> 0 | CI2: {=INDIRECT("'Tulokset hiilijalanjälki'!G37")} -> 0 | CJ2: {=INDIRECT("'Tulokset hiilijalanjälki'!H37")} -> 0 | CK2: {=INDIRECT("'Tulokset hiilijalanjälki'!G38")} -> 0 | CL2: {=INDIRECT("'Tulokset hiilijalanjälki'!H38")} -> 0 | CM2: {=INDIRECT("'Tulokset hiilijalanjälki'!J37")} -> 0 | CN2: {=INDIRECT("'Tulokset hiilijalanjälki'!G39")} -> 0 | CO2: {=INDIRECT("'Tulokset hiilijalanjälki'!H39")} -> 0 | CP2: {=INDIRECT("'Tulokset hiilijalanjälki'!G40")} -> 0 | CQ2: {=INDIRECT("'Tulokset hiilijalanjälki'!H40")} -> 0 | CR2: {=INDIRECT("'Tulokset hiilijalanjälki'!G41")} -> 0 | CS2: {=INDIRECT("'Tulokset hiilijalanjälki'!H41")} -> 0 | CT2: {=INDIRECT("'Tulokset hiilijalanjälki'!G42")} -> 0 | CU2: {=INDIRECT("'Tulokset hiilijalanjälki'!H42")} -> 0 | CV2: {=INDIRECT("'Tulokset hiilijalanjälki'!G43")} -> 0 | CW2: {=INDIRECT("'Tulokset hiilijalanjälki'!H43")} -> 0 | CX2: {=INDIRECT("'Tulokset hiilijalanjälki'!G44")} -> 0 | CY2: {=INDIRECT("'Tulokset hiilijalanjälki'!H44")} -> 0 | CZ2: {=INDIRECT("'Tulokset hiilijalanjälki'!G45")} -> 0 | DA2: {=INDIRECT("'Tulokset hiilijalanjälki'!H45")} -> 0 | DB2: {=INDIRECT("'Tulokset hiilijalanjälki'!J39")} -> 0 | DC2: {=INDIRECT("'Tulokset hiilijalanjälki'!G46")} -> 0 | DD2: {=INDIRECT("'Tulokset hiilijalanjälki'!H46")} -> 0 | DE2: {=INDIRECT("'Tulokset hiilijalanjälki'!G47")} -> 0 | DF2: {=INDIRECT("'Tulokset hiilijalanjälki'!H47")} -> 0 | DG2: {=INDIRECT("'Tulokset hiilijalanjälki'!G48")} -> 0 | DH2: {=INDIRECT("'Tulokset hiilijalanjälki'!H48")} -> 0 | DI2: {=INDIRECT("'Tulokset hiilijalanjälki'!G49")} -> 0 | DJ2: {=INDIRECT("'Tulokset hiilijalanjälki'!H49")} -> 0 | DK2: {=INDIRECT("'Tulokset hiilijalanjälki'!J46")} -> 0 | DL2: {=INDIRECT("'Tulokset hiilijalanjälki'!G50")} -> 0 | DM2: {=INDIRECT("'Tulokset hiilijalanjälki'!H50")} -> 0 | DN2: {=INDIRECT("'Tulokset hiilijalanjälki'!J50")} -> 0 | DO2: {=INDIRECT("'Tulokset hiilijalanjälki'!G52")} -> 0 | DP2: {=INDIRECT("'Tulokset hiilijalanjälki'!H52")} -> 0 | DQ2: {=INDIRECT("'Tulokset hiilijalanjälki'!G53")} -> 0 | DR2: {=INDIRECT("'Tulokset hiilijalanjälki'!H53")} -> 0 | DS2: {=INDIRECT("'Tulokset hiilijalanjälki'!G54")} -> 0 | DT2: {=INDIRECT("'Tulokset hiilijalanjälki'!H54")} -> 0 | DU2: {=INDIRECT("'Tulokset hiilijalanjälki'!G55")} -> 0 | DV2: {=INDIRECT("'Tulokset hiilijalanjälki'!H55")} -> 0 | DW2: {=INDIRECT("'Tulokset hiilijalanjälki'!G56")} -> 0 | DX2: {=INDIRECT("'Tulokset hiilijalanjälki'!H56")} -> 0 | DY2: {=INDIRECT("'Tulokset hiilijalanjälki'!J52")} -> Julkisivut ja ulkotasot: | DZ2: {=INDIRECT("'Tulokset hiilijalanjälki'!G58")} -> 0 | EA2: {=INDIRECT("'Tulokset hiilijalanjälki'!H58")} -> 0 | EB2: {=INDIRECT("'Tulokset hiilijalanjälki'!G59")} -> 0 | EC2: {=INDIRECT("'Tulokset hiilijalanjälki'!H59")} -> 0 | ED2: {=INDIRECT("'Tulokset hiilijalanjälki'!G60")} -> 0 | EE2: {=INDIRECT("'Tulokset hiilijalanjälki'!H60")} -> 0 | EF2: {=INDIRECT("'Tulokset hiilijalanjälki'!G61")} -> 0 | EG2: {=INDIRECT("'Tulokset hiilijalanjälki'!H61")} -> 0 | EH2: {=INDIRECT("'Tulokset hiilijalanjälki'!G62")} -> 0 | EI2: {=INDIRECT("'Tulokset hiilijalanjälki'!H62")} -> 0 | EJ2: {=INDIRECT("'Tulokset hiilijalanjälki'!G63")} -> 0 | EK2: {=INDIRECT("'Tulokset hiilijalanjälki'!H63")} -> 0 | EL2: {=INDIRECT("'Tulokset hiilijalanjälki'!J58")} -> Tilaosat: | EM2: {=INDIRECT("'Tulokset hiilikädenjälki'!D7")} -> 0 | EN2: {=INDIRECT("'Tulokset hiilikädenjälki'!D8")} -> 0 | EO2: {=INDIRECT("'Tulokset hiilikädenjälki'!D9")} -> 0 | EP2: {=INDIRECT("'Tulokset hiilikädenjälki'!D10")} -> 0 | EQ2: {=INDIRECT("'Tulokset hiilikädenjälki'!D11")} -> 0 | ER2: {=INDIRECT("'Tulokset hiilikädenjälki'!E7")} -> 0 | ES2: {=INDIRECT("'Tulokset hiilikädenjälki'!E8")} -> 0 | ET2: {=INDIRECT("'Tulokset hiilikädenjälki'!E9")} -> 0 | EU2: {=INDIRECT("'Tulokset hiilikädenjälki'!E10")} -> 0 | EV2: {=INDIRECT("'Tulokset hiilikädenjälki'!E11")} -> 0

Sheet Tarkistus
C2: Rakennus oltava >0 | D2: RP oltava >0 | E2: Huomio tulostaulukossa
B3: A1-A3 tuotteiden valmistus | C3: kyllä | E3: Virheilmoitus, jos luku puuttuu, on nolla tai pienempi kuin nolla.
B4: A1-A3 eloperäinen hiili* | E4: Virheilmoitus, jos luku puuttuu tai on suurempi kuin nolla.
B5: A4 kuljetukset työmaalle | C5: kyllä | E5: Virheilmoitus, jos luku puuttuu, on nolla tai pienempi kuin nolla.
B6: A5 työmaatoiminnot | C6: kyllä | E6: Virheilmoitus, jos luku puuttuu, on nolla tai pienempi kuin nolla.
B7: B4 rakennustuotteiden vaihdot | C7: kyllä | E7: Virheilmoitus, jos luku puuttuu, on nolla tai pienempi kuin nolla.
B8: B6 energian käyttö | C8: kyllä | E8: Virheilmoitus, jos luku puuttuu, on nolla tai pienempi kuin nolla.
B9: C1-C4 | C9: kyllä | E9: Virheilmoitus, jos luku puuttuu, on nolla tai pienempi kuin nolla.
C11: A1-A3 oltava >0 | D11: B4 oltava >0 | E11: Huomio tulostaulukossa
B12: 1.1.1 Maaosat | E12: Virheilmoitus, jos A1-A3 tyhjä. Oltava edes nolla.
B13: 1.1.2 Tuennat ja vahvistukset | E13: Virheilmoitus, jos A1-A3 tyhjä. Oltava edes nolla.
B14: 1.1.3 Tontin päällysteet | E14: Virheilmoitus, jos A1-A3 tyhjä. Oltava edes nolla.
B15: 1.1.5 Alueen rakenteet | E15: Virheilmoitus, jos A1-A3 tyhjä. Oltava edes nolla.
B16: 1.2.1 Perustukset | C16: kyllä | E16: Virheilmoitus, jos A1-A3 puuttuu tai on nolla.
B17: 1.2.2 Alapohjat | C17: kyllä | E17: Virheilmoitus, jos A1-A3 puuttuu tai on nolla.
B18: 1.2.3.1 Runko: Väestönsuojat | C18: kyllä | E18: Virheilmoitus, jos A1-A3 puuttuu tai on nolla.
B19: 1.2.3.2 Runko: Kantavat seinät | C19: kyllä | E19: Virheilmoitus, jos A1-A3 puuttuu tai on nolla.
B20: 1.2.3.3 Runko: Pilarit | C20: kyllä | E20: Virheilmoitus, jos A1-A3 puuttuu tai on nolla.
B21: 1.2.3.4 Runko: Palkit | C21: kyllä | E21: Virheilmoitus, jos A1-A3 puuttuu tai on nolla.
B22: 1.2.3.5 Runko: Välipohjat | C22: kyllä | E22: Virheilmoitus, jos A1-A3 puuttuu tai on nolla.
B23: 1.2.3.6 Runko: Yläpohjat | C23: kyllä | E23: Virheilmoitus, jos A1-A3 puuttuu tai on nolla.
B24: 1.2.3.7 Runko: Runkoportaat | E24: Virheilmoitus, jos A1-A3 tyhjä. Oltava edes nolla.
B25: 1.2.4.1 Julkisivu: Ulkoseinät | C25: kyllä | E25: Virheilmoitus, jos A1-A3 puuttuu tai on nolla.
B26: 1.2.4.2 Julkisivu: Ikkunat | C26: kyllä | E26: Virheilmoitus, jos A1-A3 puuttuu tai on nolla.
B27: 1.2.4.3 Julkisivu: Ulko-ovet | C27: kyllä | E27: Virheilmoitus, jos A1-A3 puuttuu tai on nolla.
B28: 1.2.5 Ulkotasot ja parvekkeet | E28: Virheilmoitus, jos A1-A3 tyhjä. Oltava edes nolla.
B29: 1.2.6 Kattorakenteet | C29: kyllä | E29: Virheilmoitus, jos A1-A3 puuttuu tai on nolla.
B30: 1.3.1 Tilan jako-osat (väliseinät, ovet, portaat) | C30: kyllä | D30: kyllä | E30: Virheilmoitus, jos A1-A3 TAI B4 puuttuu tai on nolla.
B31: 1.3.2 Tilapinnat (lattiat, sisäkatot, seinät) | C31: kyllä | D31: kyllä | E31: Virheilmoitus, jos A1-A3 TAI B4 puuttuu tai on nolla.
B32: 1.3.3 Tilavarusteet (kiintokalusteet, keittiölaitteet) | C32: kyllä | D32: kyllä | E32: Virheilmoitus, jos A1-A3 TAI B4 puuttuu tai on nolla.
B33: 1.3.4.2 Hormit ja tulisijat | E33: Virheilmoitus, jos A1-A3 tyhjä. Oltava edes nolla.
B34: 1.3.5 Tilaelementit (mm. kylpyhuonemoduulit) | E34: Virheilmoitus, jos A1-A3 tyhjä. Oltava edes nolla.
B35: Talotekniikka 3 | C35: kyllä | D35: kyllä | E35: Virheilmoitus, jos A1-A3 TAI B4 puuttuu tai on nolla.
B36: 2.1.1 Lämmitysjärjestelmät 4 | C36: kyllä | E36: Virheilmoitus, jos A1-A3 puuttuu tai on nolla.
B37: 2.1.4 Jäähdytysjärjestelmä 5 | E37: Virheilmoitus, jos A1-A3 tyhjä. Oltava edes nolla.
B38: 2.1.5 Palontorjuntajärjestelmä 5 | E38: Virheilmoitus, jos A1-A3 tyhjä. Oltava edes nolla.
B39: 2.5.1 Siirto-osat (hissit ja liukuportaat) | E39: Virheilmoitus, jos A1-A3 tyhjä. Oltava edes nolla.
B40: S212 Sähkön tuotantojärjestelmät ja -laitteistot6 | E40: Virheilmoitus, jos A1-A3 tyhjä. Oltava edes nolla.

Sheet Kuvaajien tiedot
A2: Elinkaaren vaihe | B2: Rakennukset (raja-arvo koskee tätä osuutta) | C2: Rakennuspaikka
B3: kgCO2e/m2,a | C3: kgCO2e/m2,a
A4: A1-A3 tuotteiden valmistus | B4: ='Tulokset hiilijalanjälki'!C9+'Tulokset hiilijalanjälki'!C10 -> 0 | C4: ='Tulokset hiilijalanjälki'!D9 -> 0
A5: A4 kuljetukset työmaalle | B5: ='Tulokset hiilijalanjälki'!C11 -> 0 | C5: ='Tulokset hiilijalanjälki'!D11 -> 0
A6: A5 työmaatoiminnot | B6: ='Tulokset hiilijalanjälki'!C12 -> 0 | C6: ='Tulokset hiilijalanjälki'!D12 -> 0
A7: B4 rakennustuotteiden vaihdot | B7: ='Tulokset hiilijalanjälki'!C18 -> 0 | C7: ='Tulokset hiilijalanjälki'!D18 -> 0
A8: B6 energian käyttö | B8: ='Tulokset hiilijalanjälki'!C20 -> 0 | C8: ='Tulokset hiilijalanjälki'!D20 -> 0
A9: C1 - C4 Purkutyöt, -jätteenkuljetus ja -jätehuolto | B9: ='Tulokset hiilijalanjälki'!C27 -> 0 | C9: ='Tulokset hiilijalanjälki'!D22 -> 0
B12: A1-A3 | C12: B4
A13: 1.1.1 Maaosat | B13: ='Tulokset hiilijalanjälki'!F38 -> 0 | C13: ='Tulokset hiilijalanjälki'!G38 -> 0
A14: 1.1.2 Tuennat ja vahvistukset | B14: ='Tulokset hiilijalanjälki'!F39 -> 0 | C14: ='Tulokset hiilijalanjälki'!G39 -> 0
A15: 1.1.3 Tontin päällysteet | B15: ='Tulokset hiilijalanjälki'!F40 -> 0 | C15: ='Tulokset hiilijalanjälki'!G40 -> 0
A16: 1.1.5 Alueen rakenteet | B16: ='Tulokset hiilijalanjälki'!F41 -> 0 | C16: ='Tulokset hiilijalanjälki'!G41 -> 0
A17: 1.2.1 Perustukset | B17: ='Tulokset hiilijalanjälki'!F43 -> 0 | C17: ='Tulokset hiilijalanjälki'!G43 -> 0
A18: 1.2.2 Alapohjat | B18: ='Tulokset hiilijalanjälki'!F44 -> 0 | C18: ='Tulokset hiilijalanjälki'!G44 -> 0
A19: 1.2.3.1 Runko: Väestönsuojat | B19: ='Tulokset hiilijalanjälki'!F45 -> 0 | C19: ='Tulokset hiilijalanjälki'!G45 -> 0
A20: 1.2.3.2 Runko: Kantavat seinät | B20: ='Tulokset hiilijalanjälki'!F46 -> 0 | C20: ='Tulokset hiilijalanjälki'!G46 -> 0
A21: 1.2.3.3 Runko: Pilarit | B21: ='Tulokset hiilijalanjälki'!F47 -> 0 | C21: ='Tulokset hiilijalanjälki'!G47 -> 0
A22: 1.2.3.4 Runko: Palkit | B22: ='Tulokset hiilijalanjälki'!F48 -> 0 | C22: ='Tulokset hiilijalanjälki'!G48 -> 0
A23: 1.2.3.5 Runko: Välipohjat | B23: ='Tulokset hiilijalanjälki'!F49 -> 0 | C23: ='Tulokset hiilijalanjälki'!G49 -> 0
A24: 1.2.3.6 Runko: Yläpohjat | B24: ='Tulokset hiilijalanjälki'!F50 -> 0 | C24: ='Tulokset hiilijalanjälki'!G50 -> 0
A25: 1.2.3.7 Runko: Runkoportaat | B25: ='Tulokset hiilijalanjälki'!F51 -> 0 | C25: ='Tulokset hiilijalanjälki'!G51 -> 0
A26: 1.2.4.1 Julkisivu: Ulkoseinät | B26: ='Tulokset hiilijalanjälki'!F52 -> 0 | C26: ='Tulokset hiilijalanjälki'!G52 -> 0
A27: 1.2.4.2 Julkisivu: Ikkunat | B27: ='Tulokset hiilijalanjälki'!F53 -> 0 | C27: ='Tulokset hiilijalanjälki'!G53 -> 0
A28: 1.2.4.3 Julkisivu: Ulko-ovet | B28: ='Tulokset hiilijalanjälki'!F54 -> 0 | C28: ='Tulokset hiilijalanjälki'!G54 -> 0
... A30: 1.2.6 Kattorakenteet | B30: ='Tulokset hiilijalanjälki'!F56 -> 0 | C30: ='Tulokset hiilijalanjälki'!G56 -> 0
A31: 1.3.1 Tilan jako-osat (väliseinät, ovet, portaat) | B31: ='Tulokset hiilijalanjälki'!F58 -> 0 | C31: ='Tulokset hiilijalanjälki'!G58 -> 0
A32: 1.3.2 Tilapinnat (lattiat, sisäkatot, seinät) | B32: ='Tulokset hiilijalanjälki'!F59 -> 0 | C32: ='Tulokset hiilijalanjälki'!G59 -> 0
A33: 1.3.3 Tilavarusteet (kiintokalusteet, keittiölaitteet) | B33: ='Tulokset hiilijalanjälki'!F60 -> 0 | C33: ='Tulokset hiilijalanjälki'!G60 -> 0
A34: 1.3.4.2 Hormit ja tulisijat | B34: ='Tulokset hiilijalanjälki'!F61 -> 0 | C34: ='Tulokset hiilijalanjälki'!G61 -> 0
A35: 1.3.5 Tilaelementit (mm. kylpyhuonemoduulit) | B35: ='Tulokset hiilijalanjälki'!F62 -> 0 | C35: ='Tulokset hiilijalanjälki'!G62 -> 0
A36: Talotekniikka | B36: ='Tulokset hiilijalanjälki'!F64 -> 0 | C36: ='Tulokset hiilijalanjälki'!G64 -> 0
A37: 2.1.1 Lämmitysjärjestelmät | B37: ='Tulokset hiilijalanjälki'!F69 -> 0 | C37: ='Tulokset hiilijalanjälki'!G69 -> 0
A38: 2.1.4 Jäähdytysjärjestelmä | B38: ='Tulokset hiilijalanjälki'!F70 -> 0 | C38: ='Tulokset hiilijalanjälki'!G70 -> 0
A39: 2.1.5 Palontorjuntajärjestelmä | B39: ='Tulokset hiilijalanjälki'!F71 -> 0 | C39: ='Tulokset hiilijalanjälki'!G71 -> 0
A40: 2.5.1 Siirto-osat (hissit ja liukuportaat) | B40: ='Tulokset hiilijalanjälki'!F72 -> 0 | C40: ='Tulokset hiilijalanjälki'!G72 -> 0
A41: S212 Sähkön tuotantojärjestelmät ja -laitteistot | B41: ='Tulokset hiilijalanjälki'!F73 -> 0 | C41: ='Tulokset hiilijalanjälki'!G73 -> 0
